BEGIN:VCALENDAR
VERSION:2.0
PRODID:-//Grove Christian School - Christian Leadership Academy - Richmond Virginia - Private School - ECPv6.15.5//NONSGML v1.0//EN
CALSCALE:GREGORIAN
METHOD:PUBLISH
X-ORIGINAL-URL:https://www.grovechristianschool.com
X-WR-CALDESC:Events for Grove Christian School - Christian Leadership Academy - Richmond Virginia - Private School
REFRESH-INTERVAL;VALUE=DURATION:PT1H
X-Robots-Tag:noindex
X-PUBLISHED-TTL:PT1H
BEGIN:VTIMEZONE
TZID:America/New_York
BEGIN:DAYLIGHT
TZOFFSETFROM:-0500
TZOFFSETTO:-0400
TZNAME:EDT
DTSTART:20240310T070000
END:DAYLIGHT
BEGIN:STANDARD
TZOFFSETFROM:-0400
TZOFFSETTO:-0500
TZNAME:EST
DTSTART:20241103T060000
END:STANDARD
END:VTIMEZONE
BEGIN:VEVENT
DTSTART;TZID=America/New_York:20240531T083000
DTEND;TZID=America/New_York:20240531T100000
DTSTAMP:20260423T222206
CREATED:20230515T144353Z
LAST-MODIFIED:20230515T144353Z
UID:10002229-1717144200-1717149600@www.grovechristianschool.com
SUMMARY:Lower School Awards and Celebration
DESCRIPTION:
URL:https://www.grovechristianschool.com/gcsevent/lower-school-awards-and-celebration-4/
LOCATION:Grove Christian School\, 8701 Ridge Road\, Richmond\, VA\, 23229\, United States
CATEGORIES:Academic,Main
END:VEVENT
BEGIN:VEVENT
DTSTART;TZID=America/New_York:20240531T000000
DTEND;TZID=America/New_York:20240531T235900
DTSTAMP:20260423T222206
CREATED:20230515T144245Z
LAST-MODIFIED:20230515T144246Z
UID:10002230-1717113600-1717199940@www.grovechristianschool.com
SUMMARY:Fourth Quarter Ends
DESCRIPTION:
URL:https://www.grovechristianschool.com/gcsevent/fourth-quarter-ends-3/
LOCATION:Grove Christian School\, 8701 Ridge Road\, Richmond\, VA\, 23229\, United States
CATEGORIES:Academic,Main
END:VEVENT
BEGIN:VEVENT
DTSTART;TZID=America/New_York:20240527T000000
DTEND;TZID=America/New_York:20240527T235900
DTSTAMP:20260423T222206
CREATED:20230515T144146Z
LAST-MODIFIED:20230515T144147Z
UID:10002225-1716768000-1716854340@www.grovechristianschool.com
SUMMARY:Memorial Day
DESCRIPTION:
URL:https://www.grovechristianschool.com/gcsevent/memorial-day-6/
LOCATION:Grove Christian School\, 8701 Ridge Road\, Richmond\, VA\, 23229\, United States
CATEGORIES:Academic,Main
END:VEVENT
BEGIN:VEVENT
DTSTART;TZID=America/New_York:20240427T180000
DTEND;TZID=America/New_York:20240427T210000
DTSTAMP:20260423T222206
CREATED:20230515T144023Z
LAST-MODIFIED:20230515T144024Z
UID:10002231-1714240800-1714251600@www.grovechristianschool.com
SUMMARY:Prom
DESCRIPTION:
URL:https://www.grovechristianschool.com/gcsevent/prom-3/
LOCATION:Grove Christian School\, 8701 Ridge Road\, Richmond\, VA\, 23229\, United States
CATEGORIES:Academic,Main
END:VEVENT
BEGIN:VEVENT
DTSTART;TZID=America/New_York:20240426T183000
DTEND;TZID=America/New_York:20240426T203000
DTSTAMP:20260423T222206
CREATED:20230515T144014Z
LAST-MODIFIED:20230515T144014Z
UID:10002232-1714156200-1714163400@www.grovechristianschool.com
SUMMARY:Academic Showcase
DESCRIPTION:
URL:https://www.grovechristianschool.com/gcsevent/academic-showcase-3/
LOCATION:Grove Christian School\, 8701 Ridge Road\, Richmond\, VA\, 23229\, United States
CATEGORIES:Main
END:VEVENT
BEGIN:VEVENT
DTSTART;TZID=America/New_York:20240401T000000
DTEND;TZID=America/New_York:20240401T235959
DTSTAMP:20260423T222206
CREATED:20230515T143817Z
LAST-MODIFIED:20230515T143818Z
UID:10002234-1711929600-1712015999@www.grovechristianschool.com
SUMMARY:Fourth Quarter Begins
DESCRIPTION:
URL:https://www.grovechristianschool.com/gcsevent/fourth-quarter-begins-5/
LOCATION:Grove Christian School\, 8701 Ridge Road\, Richmond\, VA\, 23229\, United States
CATEGORIES:Academic,Main
END:VEVENT
BEGIN:VEVENT
DTSTART;TZID=America/New_York:20240329T000000
DTEND;TZID=America/New_York:20240329T235900
DTSTAMP:20260423T222206
CREATED:20230515T143832Z
LAST-MODIFIED:20230515T143833Z
UID:10002233-1711670400-1711756740@www.grovechristianschool.com
SUMMARY:Good Friday--No School
DESCRIPTION:Holiday/No School
URL:https://www.grovechristianschool.com/gcsevent/good-friday-no-school-4/
LOCATION:Grove Christian School\, 8701 Ridge Road\, Richmond\, VA\, 23229\, United States
CATEGORIES:Main
END:VEVENT
BEGIN:VEVENT
DTSTART;TZID=America/New_York:20240325T000000
DTEND;TZID=America/New_York:20240401T235900
DTSTAMP:20260423T222206
CREATED:20230515T143805Z
LAST-MODIFIED:20230515T143805Z
UID:10002235-1711324800-1712015940@www.grovechristianschool.com
SUMMARY:Spring Break
DESCRIPTION:
URL:https://www.grovechristianschool.com/gcsevent/spring-break-5/
LOCATION:Grove Christian School\, 8701 Ridge Road\, Richmond\, VA\, 23229\, United States
CATEGORIES:Academic,Main
END:VEVENT
BEGIN:VEVENT
DTSTART;TZID=America/New_York:20240322T000000
DTEND;TZID=America/New_York:20240322T235900
DTSTAMP:20260423T222207
CREATED:20230515T143741Z
LAST-MODIFIED:20230515T143742Z
UID:10002236-1711065600-1711151940@www.grovechristianschool.com
SUMMARY:Third Quarter Ends
DESCRIPTION:
URL:https://www.grovechristianschool.com/gcsevent/third-quarter-ends-5/
LOCATION:Grove Christian School\, 8701 Ridge Road\, Richmond\, VA\, 23229\, United States
CATEGORIES:Academic,Main
END:VEVENT
BEGIN:VEVENT
DTSTART;TZID=America/New_York:20240219T000000
DTEND;TZID=America/New_York:20240219T235900
DTSTAMP:20260423T222207
CREATED:20230515T143509Z
LAST-MODIFIED:20230515T143510Z
UID:10002237-1708300800-1708387140@www.grovechristianschool.com
SUMMARY:President's Day--No School\, Teacher Inservice\, Potential Weather Makeup Date
DESCRIPTION:
URL:https://www.grovechristianschool.com/gcsevent/presidents-day-no-school-teacher-inservice-potential-weather-makeup-date-5/
LOCATION:Grove Christian School\, 8701 Ridge Road\, Richmond\, VA\, 23229\, United States
CATEGORIES:Academic,Main
END:VEVENT
BEGIN:VEVENT
DTSTART;TZID=America/New_York:20240215T180000
DTEND;TZID=America/New_York:20240215T180000
DTSTAMP:20260423T222207
CREATED:20240108T150536Z
LAST-MODIFIED:20240108T150536Z
UID:10002512-1708020000-1708020000@www.grovechristianschool.com
SUMMARY:Varsity Girls Basketball vs\, Piedmont
DESCRIPTION:
URL:https://www.grovechristianschool.com/gcsevent/varsity-girls-basketball-vs-piedmont-3/
LOCATION:Grove Christian School\, 8701 Ridge Road\, Richmond\, VA\, 23229\, United States
CATEGORIES:Athletic,Sports
END:VEVENT
BEGIN:VEVENT
DTSTART;TZID=America/New_York:20240215T163000
DTEND;TZID=America/New_York:20240215T163000
DTSTAMP:20260423T222207
CREATED:20240108T150536Z
LAST-MODIFIED:20240108T150536Z
UID:10002511-1708014600-1708014600@www.grovechristianschool.com
SUMMARY:Middle School Boys Basketball vs. Piedmont
DESCRIPTION:
URL:https://www.grovechristianschool.com/gcsevent/middle-school-boys-basketball-vs-piedmont-3/
LOCATION:Grove Christian School\, 8701 Ridge Road\, Richmond\, VA\, 23229\, United States
CATEGORIES:Athletic,Sports
END:VEVENT
BEGIN:VEVENT
DTSTART;TZID=America/New_York:20240213T171500
DTEND;TZID=America/New_York:20240213T171500
DTSTAMP:20260423T222207
CREATED:20240108T150346Z
LAST-MODIFIED:20240108T150346Z
UID:10002508-1707844500-1707844500@www.grovechristianschool.com
SUMMARY:Middle School Boys Basketball vs. CVCS
DESCRIPTION:
URL:https://www.grovechristianschool.com/gcsevent/middle-school-boys-basketball-vs-cvcs-3/
LOCATION:Grove Christian School\, 8701 Ridge Road\, Richmond\, VA\, 23229\, United States
CATEGORIES:Athletic,Sports
END:VEVENT
BEGIN:VEVENT
DTSTART;TZID=America/New_York:20240213T160000
DTEND;TZID=America/New_York:20240213T160000
DTSTAMP:20260423T222207
CREATED:20240108T150346Z
LAST-MODIFIED:20240108T150346Z
UID:10002507-1707840000-1707840000@www.grovechristianschool.com
SUMMARY:Middle School Girls Basketball vs. CVCS
DESCRIPTION:
URL:https://www.grovechristianschool.com/gcsevent/middle-school-girls-basketball-vs-cvcs-3/
LOCATION:Grove Christian School\, 8701 Ridge Road\, Richmond\, VA\, 23229\, United States
CATEGORIES:Athletic,Sports
END:VEVENT
BEGIN:VEVENT
DTSTART;TZID=America/New_York:20240201T181500
DTEND;TZID=America/New_York:20240201T181500
DTSTAMP:20260423T222207
CREATED:20240108T150144Z
LAST-MODIFIED:20240108T150144Z
UID:10002500-1706811300-1706811300@www.grovechristianschool.com
SUMMARY:Varsity Girls Basketball vs. Grace
DESCRIPTION:
URL:https://www.grovechristianschool.com/gcsevent/varsity-girls-basketball-vs-grace-5/
LOCATION:Grove Christian School\, 8701 Ridge Road\, Richmond\, VA\, 23229\, United States
CATEGORIES:Athletic,Sports
END:VEVENT
BEGIN:VEVENT
DTSTART;TZID=America/New_York:20240201T170000
DTEND;TZID=America/New_York:20240201T170000
DTSTAMP:20260423T222207
CREATED:20240108T150144Z
LAST-MODIFIED:20240108T150144Z
UID:10002499-1706806800-1706806800@www.grovechristianschool.com
SUMMARY:JV Boys Basketball vs. Grace
DESCRIPTION:
URL:https://www.grovechristianschool.com/gcsevent/jv-boys-basketball-vs-grace-4/
LOCATION:Grove Christian School\, 8701 Ridge Road\, Richmond\, VA\, 23229\, United States
CATEGORIES:Athletic,Sports
END:VEVENT
BEGIN:VEVENT
DTSTART;TZID=America/New_York:20240129T170000
DTEND;TZID=America/New_York:20240129T170000
DTSTAMP:20260423T222207
CREATED:20240108T150019Z
LAST-MODIFIED:20240108T150019Z
UID:10002492-1706547600-1706547600@www.grovechristianschool.com
SUMMARY:Middle School Boys Basketball vs. Elijah House
DESCRIPTION:
URL:https://www.grovechristianschool.com/gcsevent/middle-school-boys-basketball-vs-elijah-house-3/
LOCATION:Grove Christian School\, 8701 Ridge Road\, Richmond\, VA\, 23229\, United States
CATEGORIES:Athletic,Sports
END:VEVENT
BEGIN:VEVENT
DTSTART;TZID=America/New_York:20240129T160000
DTEND;TZID=America/New_York:20240129T160000
DTSTAMP:20260423T222207
CREATED:20240108T150018Z
LAST-MODIFIED:20240108T150018Z
UID:10002491-1706544000-1706544000@www.grovechristianschool.com
SUMMARY:Middle School Girls Basketball vs. Elijah House
DESCRIPTION:
URL:https://www.grovechristianschool.com/gcsevent/middle-school-girls-basketball-vs-elijah-house-3/
LOCATION:Grove Christian School\, 8701 Ridge Road\, Richmond\, VA\, 23229\, United States
CATEGORIES:Athletic,Sports
END:VEVENT
BEGIN:VEVENT
DTSTART;TZID=America/New_York:20240126T180000
DTEND;TZID=America/New_York:20240126T180000
DTSTAMP:20260423T222207
CREATED:20240108T145819Z
LAST-MODIFIED:20240108T145819Z
UID:10002490-1706292000-1706292000@www.grovechristianschool.com
SUMMARY:Varsity Boys Basketball vs. Carmel
DESCRIPTION:
URL:https://www.grovechristianschool.com/gcsevent/varsity-boys-basketball-vs-carmel-5/
LOCATION:Grove Christian School\, 8701 Ridge Road\, Richmond\, VA\, 23229\, United States
CATEGORIES:Athletic,Sports
END:VEVENT
BEGIN:VEVENT
DTSTART;TZID=America/New_York:20240126T163000
DTEND;TZID=America/New_York:20240126T163000
DTSTAMP:20260423T222207
CREATED:20240108T145819Z
LAST-MODIFIED:20240108T145819Z
UID:10002489-1706286600-1706286600@www.grovechristianschool.com
SUMMARY:Varsity Girls Basketball vs. Carmel
DESCRIPTION:
URL:https://www.grovechristianschool.com/gcsevent/varsity-girls-basketball-vs-carmel-5/
LOCATION:Grove Christian School\, 8701 Ridge Road\, Richmond\, VA\, 23229\, United States
CATEGORIES:Athletic,Sports
END:VEVENT
BEGIN:VEVENT
DTSTART;TZID=America/New_York:20240123T183000
DTEND;TZID=America/New_York:20240123T183000
DTSTAMP:20260423T222207
CREATED:20240108T145804Z
LAST-MODIFIED:20240108T145804Z
UID:10002485-1706034600-1706034600@www.grovechristianschool.com
SUMMARY:Varsity Boys Basketball vs. WCA
DESCRIPTION:
URL:https://www.grovechristianschool.com/gcsevent/varsity-boys-basketball-vs-wca-3/
LOCATION:Grove Christian School\, 8701 Ridge Road\, Richmond\, VA\, 23229\, United States
CATEGORIES:Athletic,Sports
END:VEVENT
BEGIN:VEVENT
DTSTART;TZID=America/New_York:20240123T171500
DTEND;TZID=America/New_York:20240123T171500
DTSTAMP:20260423T222207
CREATED:20240108T145804Z
LAST-MODIFIED:20240108T145804Z
UID:10002484-1706030100-1706030100@www.grovechristianschool.com
SUMMARY:JV Boys Basketball vs. WCA
DESCRIPTION:
URL:https://www.grovechristianschool.com/gcsevent/jv-boys-basketball-vs-wca-3/
LOCATION:Grove Christian School\, 8701 Ridge Road\, Richmond\, VA\, 23229\, United States
CATEGORIES:Athletic,Sports
END:VEVENT
BEGIN:VEVENT
DTSTART;TZID=America/New_York:20240123T160000
DTEND;TZID=America/New_York:20240123T160000
DTSTAMP:20260423T222207
CREATED:20240108T145803Z
LAST-MODIFIED:20240108T145803Z
UID:10002483-1706025600-1706025600@www.grovechristianschool.com
SUMMARY:Middle School Boys Basketball vs. WCA
DESCRIPTION:
URL:https://www.grovechristianschool.com/gcsevent/middle-school-boys-basketball-vs-wca-3/
LOCATION:Grove Christian School\, 8701 Ridge Road\, Richmond\, VA\, 23229\, United States
CATEGORIES:Athletic,Sports
END:VEVENT
BEGIN:VEVENT
DTSTART;TZID=America/New_York:20240122T000000
DTEND;TZID=America/New_York:20240122T235900
DTSTAMP:20260423T222207
CREATED:20230515T143245Z
LAST-MODIFIED:20230515T143246Z
UID:10002238-1705881600-1705967940@www.grovechristianschool.com
SUMMARY:Third Quarter Begins
DESCRIPTION:
URL:https://www.grovechristianschool.com/gcsevent/third-quarter-begins-5/
LOCATION:Grove Christian School\, 8701 Ridge Road\, Richmond\, VA\, 23229\, United States
CATEGORIES:Academic,Main
END:VEVENT
BEGIN:VEVENT
DTSTART;TZID=America/New_York:20240119T000000
DTEND;TZID=America/New_York:20240119T235900
DTSTAMP:20260423T222207
CREATED:20230515T143227Z
LAST-MODIFIED:20230515T143228Z
UID:10002240-1705622400-1705708740@www.grovechristianschool.com
SUMMARY:Second Quarter Ends
DESCRIPTION:
URL:https://www.grovechristianschool.com/gcsevent/second-quarter-ends-5/
LOCATION:Grove Christian School\, 8701 Ridge Road\, Richmond\, VA\, 23229\, United States
CATEGORIES:Academic,Main
END:VEVENT
BEGIN:VEVENT
DTSTART;TZID=America/New_York:20240118T183000
DTEND;TZID=America/New_York:20240118T183000
DTSTAMP:20260423T222207
CREATED:20240108T145738Z
LAST-MODIFIED:20240108T145738Z
UID:10002479-1705602600-1705602600@www.grovechristianschool.com
SUMMARY:JV Boys Basketball vs. Guardian
DESCRIPTION:
URL:https://www.grovechristianschool.com/gcsevent/jv-boys-basketball-vs-guardian-3/
LOCATION:Grove Christian School\, 8701 Ridge Road\, Richmond\, VA\, 23229\, United States
CATEGORIES:Athletic,Sports
END:VEVENT
BEGIN:VEVENT
DTSTART;TZID=America/New_York:20240118T171500
DTEND;TZID=America/New_York:20240118T171500
DTSTAMP:20260423T222207
CREATED:20240108T145737Z
LAST-MODIFIED:20240108T145737Z
UID:10002478-1705598100-1705598100@www.grovechristianschool.com
SUMMARY:Varsity Girls Basketball vs Guardian
DESCRIPTION:
URL:https://www.grovechristianschool.com/gcsevent/varsity-girls-basketball-vs-guardian-4/
LOCATION:Grove Christian School\, 8701 Ridge Road\, Richmond\, VA\, 23229\, United States
CATEGORIES:Athletic,Sports
END:VEVENT
BEGIN:VEVENT
DTSTART;TZID=America/New_York:20240118T160000
DTEND;TZID=America/New_York:20240118T160000
DTSTAMP:20260423T222207
CREATED:20240108T145737Z
LAST-MODIFIED:20240108T145737Z
UID:10002477-1705593600-1705593600@www.grovechristianschool.com
SUMMARY:Middle School Boys Basketball vs Guardian
DESCRIPTION:
URL:https://www.grovechristianschool.com/gcsevent/middle-school-boys-basketball-vs-guardian-2/
LOCATION:Grove Christian School\, 8701 Ridge Road\, Richmond\, VA\, 23229\, United States
CATEGORIES:Athletic,Sports
END:VEVENT
BEGIN:VEVENT
DTSTART;TZID=America/New_York:20240116T190000
DTEND;TZID=America/New_York:20240116T190000
DTSTAMP:20260423T222207
CREATED:20240108T145537Z
LAST-MODIFIED:20240108T145537Z
UID:10002476-1705431600-1705431600@www.grovechristianschool.com
SUMMARY:Varsity Boys Basketball vs. TNCS
DESCRIPTION:
URL:https://www.grovechristianschool.com/gcsevent/varsity-boys-basketball-vs-tncs-5/
LOCATION:Grove Christian School\, 8701 Ridge Road\, Richmond\, VA\, 23229\, United States
CATEGORIES:Athletic,Sports
END:VEVENT
BEGIN:VEVENT
DTSTART;TZID=America/New_York:20240116T174500
DTEND;TZID=America/New_York:20240116T174500
DTSTAMP:20260423T222207
CREATED:20240108T145537Z
LAST-MODIFIED:20240108T145537Z
UID:10002475-1705427100-1705427100@www.grovechristianschool.com
SUMMARY:Varsity Girls Basketball vs. TNCS
DESCRIPTION:
URL:https://www.grovechristianschool.com/gcsevent/varsity-girls-basketball-vs-tncs-5/
LOCATION:Grove Christian School\, 8701 Ridge Road\, Richmond\, VA\, 23229\, United States
CATEGORIES:Athletic,Sports
END:VEVENT
END:VCALENDAR