BEGIN:VCALENDAR
VERSION:2.0
PRODID:-//Grove Christian School - Christian Leadership Academy - Richmond Virginia - Private School - ECPv6.15.5//NONSGML v1.0//EN
CALSCALE:GREGORIAN
METHOD:PUBLISH
X-ORIGINAL-URL:https://www.grovechristianschool.com
X-WR-CALDESC:Events for Grove Christian School - Christian Leadership Academy - Richmond Virginia - Private School
REFRESH-INTERVAL;VALUE=DURATION:PT1H
X-Robots-Tag:noindex
X-PUBLISHED-TTL:PT1H
BEGIN:VTIMEZONE
TZID:America/New_York
BEGIN:DAYLIGHT
TZOFFSETFROM:-0500
TZOFFSETTO:-0400
TZNAME:EDT
DTSTART:20220313T070000
END:DAYLIGHT
BEGIN:STANDARD
TZOFFSETFROM:-0400
TZOFFSETTO:-0500
TZNAME:EST
DTSTART:20221106T060000
END:STANDARD
END:VTIMEZONE
BEGIN:VEVENT
DTSTART;TZID=America/New_York:20220827T000000
DTEND;TZID=America/New_York:20220827T235959
DTSTAMP:20260423T141508
CREATED:20220706T182641Z
LAST-MODIFIED:20220706T182642Z
UID:10002079-1661558400-1661644799@www.grovechristianschool.com
SUMMARY:Varsity Volleyball at GCS Invitational
DESCRIPTION:
URL:https://www.grovechristianschool.com/gcsevent/varsity-volleyball-at-gcs-invitational-4/
LOCATION:Grove Christian School\, 8701 Ridge Road\, Richmond\, VA\, 23229\, United States
CATEGORIES:Athletic
END:VEVENT
BEGIN:VEVENT
DTSTART;TZID=America/New_York:20220826T000000
DTEND;TZID=America/New_York:20220826T235959
DTSTAMP:20260423T141508
CREATED:20220706T182629Z
LAST-MODIFIED:20220706T182630Z
UID:10002080-1661472000-1661558399@www.grovechristianschool.com
SUMMARY:Varsity Volleyball at GCS Invitational
DESCRIPTION:
URL:https://www.grovechristianschool.com/gcsevent/varsity-volleyball-at-gcs-invitational-3/
LOCATION:Grove Christian School\, 8701 Ridge Road\, Richmond\, VA\, 23229\, United States
CATEGORIES:Athletic
END:VEVENT
BEGIN:VEVENT
DTSTART;TZID=America/New_York:20220818T000000
DTEND;TZID=America/New_York:20220818T115900
DTSTAMP:20260423T141508
CREATED:20220517T165735Z
LAST-MODIFIED:20220517T165736Z
UID:10002036-1660780800-1660823940@www.grovechristianschool.com
SUMMARY:First Day of School
DESCRIPTION:
URL:https://www.grovechristianschool.com/gcsevent/first-day-of-school-4/
LOCATION:Grove Christian School\, 8701 Ridge Road\, Richmond\, VA\, 23229\, United States
CATEGORIES:Academic,Main
END:VEVENT
BEGIN:VEVENT
DTSTART;TZID=America/New_York:20220816T180000
DTEND;TZID=America/New_York:20220816T200000
DTSTAMP:20260423T141508
CREATED:20220517T165720Z
LAST-MODIFIED:20220517T165721Z
UID:10002037-1660672800-1660680000@www.grovechristianschool.com
SUMMARY:Opening Ceremony
DESCRIPTION:
URL:https://www.grovechristianschool.com/gcsevent/opening-ceremony-4/
LOCATION:Grove Christian School\, 8701 Ridge Road\, Richmond\, VA\, 23229\, United States
CATEGORIES:Academic,Main
END:VEVENT
BEGIN:VEVENT
DTSTART;TZID=America/New_York:20220815T000000
DTEND;TZID=America/New_York:20220817T235900
DTSTAMP:20260423T141508
CREATED:20220517T165704Z
LAST-MODIFIED:20220517T165705Z
UID:10002038-1660521600-1660780740@www.grovechristianschool.com
SUMMARY:Teacher Inservice
DESCRIPTION:
URL:https://www.grovechristianschool.com/gcsevent/teacher-inservice-14/
LOCATION:Grove Christian School\, 8701 Ridge Road\, Richmond\, VA\, 23229\, United States
CATEGORIES:Academic,Main
END:VEVENT
BEGIN:VEVENT
DTSTART;TZID=America/New_York:20220811T000000
DTEND;TZID=America/New_York:20220812T235900
DTSTAMP:20260423T141508
CREATED:20220517T165649Z
LAST-MODIFIED:20220517T165650Z
UID:10002039-1660176000-1660348740@www.grovechristianschool.com
SUMMARY:Teacher Inservice
DESCRIPTION:
URL:https://www.grovechristianschool.com/gcsevent/teacher-inservice-13/
LOCATION:Grove Christian School\, 8701 Ridge Road\, Richmond\, VA\, 23229\, United States
CATEGORIES:Academic,Main
END:VEVENT
BEGIN:VEVENT
DTSTART;TZID=America/New_York:20220801T000000
DTEND;TZID=America/New_York:20220801T235900
DTSTAMP:20260423T141508
CREATED:20220517T165633Z
LAST-MODIFIED:20220517T165634Z
UID:10002040-1659312000-1659398340@www.grovechristianschool.com
SUMMARY:Fall Sports Practices Begin
DESCRIPTION:
URL:https://www.grovechristianschool.com/gcsevent/fall-sports-practices-begin-5/
LOCATION:Grove Christian School\, 8701 Ridge Road\, Richmond\, VA\, 23229\, United States
CATEGORIES:Academic,Athletic,Main
END:VEVENT
BEGIN:VEVENT
DTSTART;TZID=America/New_York:20220531T000000
DTEND;TZID=America/New_York:20220531T235900
DTSTAMP:20260423T141508
CREATED:20210414T160005Z
LAST-MODIFIED:20210414T160010Z
UID:10001805-1653955200-1654041540@www.grovechristianschool.com
SUMMARY:Teacher Inservice
DESCRIPTION:
URL:https://www.grovechristianschool.com/gcsevent/teacher-inservice-10/
LOCATION:Grove Christian School\, 8701 Ridge Road\, Richmond\, VA\, 23229\, United States
CATEGORIES:Academic,Main
END:VEVENT
BEGIN:VEVENT
DTSTART;TZID=America/New_York:20220530T000000
DTEND;TZID=America/New_York:20220530T235900
DTSTAMP:20260423T141508
CREATED:20210414T160028Z
LAST-MODIFIED:20210414T160029Z
UID:10001807-1653868800-1653955140@www.grovechristianschool.com
SUMMARY:Memorial Day
DESCRIPTION:
URL:https://www.grovechristianschool.com/gcsevent/memorial-day-4/
LOCATION:Grove Christian School\, 8701 Ridge Road\, Richmond\, VA\, 23229\, United States
CATEGORIES:Academic,Main
END:VEVENT
BEGIN:VEVENT
DTSTART;TZID=America/New_York:20220528T110000
DTEND;TZID=America/New_York:20220528T120000
DTSTAMP:20260423T141508
CREATED:20210414T160025Z
LAST-MODIFIED:20230201T202652Z
UID:10001809-1653735600-1653739200@www.grovechristianschool.com
SUMMARY:High School Baccalaureate
DESCRIPTION:
URL:https://www.grovechristianschool.com/gcsevent/high-school-baccalaureate-2/
LOCATION:Grove Christian School\, 8701 Ridge Road\, Richmond\, VA\, 23229\, United States
CATEGORIES:Main
END:VEVENT
BEGIN:VEVENT
DTSTART;TZID=America/New_York:20220527T000000
DTEND;TZID=America/New_York:20220527T235900
DTSTAMP:20260423T141508
CREATED:20220228T174259Z
LAST-MODIFIED:20220228T174300Z
UID:10001980-1653609600-1653695940@www.grovechristianschool.com
SUMMARY:Teacher Inservice
DESCRIPTION:
URL:https://www.grovechristianschool.com/gcsevent/teacher-inservice-12/
LOCATION:Grove Christian School\, 8701 Ridge Road\, Richmond\, VA\, 23229\, United States
CATEGORIES:Academic,Main
END:VEVENT
BEGIN:VEVENT
DTSTART;TZID=America/New_York:20220526T190000
DTEND;TZID=America/New_York:20220526T210000
DTSTAMP:20260423T141508
CREATED:20210414T160019Z
LAST-MODIFIED:20210414T160020Z
UID:10001813-1653591600-1653598800@www.grovechristianschool.com
SUMMARY:Junior Kindergarten Baccalaureate
DESCRIPTION:
URL:https://www.grovechristianschool.com/gcsevent/junior-kindergarten-baccalaureate/
LOCATION:Grove Christian School\, 8701 Ridge Road\, Richmond\, VA\, 23229\, United States
CATEGORIES:Academic,Main
END:VEVENT
BEGIN:VEVENT
DTSTART;TZID=America/New_York:20220526T103000
DTEND;TZID=America/New_York:20220526T120000
DTSTAMP:20260423T141508
CREATED:20210414T160021Z
LAST-MODIFIED:20220316T140631Z
UID:10001811-1653561000-1653566400@www.grovechristianschool.com
SUMMARY:Upper School Awards and Celebration
DESCRIPTION:
URL:https://www.grovechristianschool.com/gcsevent/upper-school-awards-and-celebration-2/
LOCATION:Grove Christian School\, 8701 Ridge Road\, Richmond\, VA\, 23229\, United States
CATEGORIES:Academic,Main
END:VEVENT
BEGIN:VEVENT
DTSTART;TZID=America/New_York:20220526T083000
DTEND;TZID=America/New_York:20220526T100000
DTSTAMP:20260423T141508
CREATED:20210414T160017Z
LAST-MODIFIED:20220316T140605Z
UID:10001815-1653553800-1653559200@www.grovechristianschool.com
SUMMARY:Lower School Awards and Celebration
DESCRIPTION:
URL:https://www.grovechristianschool.com/gcsevent/lower-school-awards-and-celebration-2/
LOCATION:Grove Christian School\, 8701 Ridge Road\, Richmond\, VA\, 23229\, United States
CATEGORIES:Academic,Main
END:VEVENT
BEGIN:VEVENT
DTSTART;TZID=America/New_York:20220526T000000
DTEND;TZID=America/New_York:20220526T235900
DTSTAMP:20260423T141508
CREATED:20210414T160015Z
LAST-MODIFIED:20210414T160016Z
UID:10001500-1653523200-1653609540@www.grovechristianschool.com
SUMMARY:Fourth Quarter Ends
DESCRIPTION:
URL:https://www.grovechristianschool.com/gcsevent/fourth-quarter-ends/
LOCATION:Grove Christian School\, 8701 Ridge Road\, Richmond\, VA\, 23229\, United States
CATEGORIES:Academic,Main
END:VEVENT
BEGIN:VEVENT
DTSTART;TZID=America/New_York:20220524T180000
DTEND;TZID=America/New_York:20220524T180000
DTSTAMP:20260423T141508
CREATED:20211013T153603Z
LAST-MODIFIED:20211013T153603Z
UID:10001568-1653415200-1653415200@www.grovechristianschool.com
SUMMARY:Spring Athletic Reception
DESCRIPTION:
URL:https://www.grovechristianschool.com/gcsevent/spring-athletic-reception/
LOCATION:Grove Christian School\, 8701 Ridge Road\, Richmond\, VA\, 23229\, United States
CATEGORIES:Main
END:VEVENT
BEGIN:VEVENT
DTSTART;TZID=America/New_York:20220520T000000
DTEND;TZID=America/New_York:20220520T235900
DTSTAMP:20260423T141508
CREATED:20220318T151512Z
LAST-MODIFIED:20220318T151513Z
UID:10001653-1653004800-1653091140@www.grovechristianschool.com
SUMMARY:Track & Field at VISAA State Meet
DESCRIPTION:
URL:https://www.grovechristianschool.com/gcsevent/track-field-at-visaa-state-meet-2/
LOCATION:Sports Backers Stadium\, Avenue of Champions\, Richmond\, VA\, 23230\, United States
CATEGORIES:Athletic
END:VEVENT
BEGIN:VEVENT
DTSTART;TZID=America/New_York:20220514T000000
DTEND;TZID=America/New_York:20220514T235959
DTSTAMP:20260423T141508
CREATED:20220318T151431Z
LAST-MODIFIED:20220401T133028Z
UID:10002013-1652486400-1652572799@www.grovechristianschool.com
SUMMARY:Track & Field at Highland Springs Invitational
DESCRIPTION:
URL:https://www.grovechristianschool.com/gcsevent/track-field-at-highland-springs-invitational/
LOCATION:Highland Springs High School\, 200 S Airport Dr\, Highland Springs\, Virginia\, 23075
CATEGORIES:Athletic
END:VEVENT
BEGIN:VEVENT
DTSTART;TZID=America/New_York:20220512T160000
DTEND;TZID=America/New_York:20220512T160000
DTSTAMP:20260423T141508
CREATED:20220318T151317Z
LAST-MODIFIED:20220318T151318Z
UID:10002014-1652371200-1652371200@www.grovechristianschool.com
SUMMARY:Track & Field at Charles City Meet
DESCRIPTION:
URL:https://www.grovechristianschool.com/gcsevent/track-field-at-charles-city-meet-2/
LOCATION:Charles City County High School\, 10039 Courthouse Rd\, Charles City\, VA\, 23030\, United States
CATEGORIES:Athletic
END:VEVENT
BEGIN:VEVENT
DTSTART;TZID=America/New_York:20220507T180000
DTEND;TZID=America/New_York:20220507T230000
DTSTAMP:20260423T141508
CREATED:20211013T154501Z
LAST-MODIFIED:20211013T154502Z
UID:10001908-1651946400-1651964400@www.grovechristianschool.com
SUMMARY:Prom
DESCRIPTION:
URL:https://www.grovechristianschool.com/gcsevent/prom/
LOCATION:Grove Christian School\, 8701 Ridge Road\, Richmond\, VA\, 23229\, United States
CATEGORIES:Academic,Main
END:VEVENT
BEGIN:VEVENT
DTSTART;TZID=America/New_York:20220506T000000
DTEND;TZID=America/New_York:20220506T235900
DTSTAMP:20260423T141508
CREATED:20211013T154447Z
LAST-MODIFIED:20211013T154447Z
UID:10001906-1651795200-1651881540@www.grovechristianschool.com
SUMMARY:Field Day
DESCRIPTION:
URL:https://www.grovechristianschool.com/gcsevent/field-day-3/
LOCATION:Grove Christian School\, 8701 Ridge Road\, Richmond\, VA\, 23229\, United States
CATEGORIES:Academic,Main
END:VEVENT
BEGIN:VEVENT
DTSTART;TZID=America/New_York:20220502T000000
DTEND;TZID=America/New_York:20220502T235959
DTSTAMP:20260423T141508
CREATED:20220318T151234Z
LAST-MODIFIED:20220401T133049Z
UID:10002010-1651449600-1651535999@www.grovechristianschool.com
SUMMARY:Track & Field at West Point Meet
DESCRIPTION:
URL:https://www.grovechristianschool.com/gcsevent/track-field-at-west-point-invitational/
LOCATION:West Point High School\, 2700 Mattaponi Ave\, West Point\, VA\, 23181\, United States
CATEGORIES:Athletic
END:VEVENT
BEGIN:VEVENT
DTSTART;TZID=America/New_York:20220430T000000
DTEND;TZID=America/New_York:20220430T235959
DTSTAMP:20260423T141508
CREATED:20220318T151211Z
LAST-MODIFIED:20220318T151213Z
UID:10002009-1651276800-1651363199@www.grovechristianschool.com
SUMMARY:Track & Field at Norfolk Academy Invitational
DESCRIPTION:
URL:https://www.grovechristianschool.com/gcsevent/track-field-at-norfolk-academy-invitational/
LOCATION:Norfolk Academy\, 1585 Wesleyan Dr\, Norfolk\, VA\, 23502\, United States
CATEGORIES:Athletic
END:VEVENT
BEGIN:VEVENT
DTSTART;TZID=America/New_York:20220429T183000
DTEND;TZID=America/New_York:20220429T203000
DTSTAMP:20260423T141508
CREATED:20211013T154135Z
LAST-MODIFIED:20220427T161811Z
UID:10001904-1651257000-1651264200@www.grovechristianschool.com
SUMMARY:Academic Showcase
DESCRIPTION:
URL:https://www.grovechristianschool.com/gcsevent/academic-showcase/
LOCATION:Grove Christian School\, 8701 Ridge Road\, Richmond\, VA\, 23229\, United States
CATEGORIES:Main
END:VEVENT
BEGIN:VEVENT
DTSTART;TZID=America/New_York:20220423T000000
DTEND;TZID=America/New_York:20220423T235959
DTSTAMP:20260423T141508
CREATED:20220318T150812Z
LAST-MODIFIED:20220318T150813Z
UID:10002012-1650672000-1650758399@www.grovechristianschool.com
SUMMARY:Track & Field at Gus Lacy Track Classic
DESCRIPTION:
URL:https://www.grovechristianschool.com/gcsevent/track-field-at-gus-lacy-track-classic-2/
LOCATION:Fork Union Military Academy\, 4744 James Madison Hwy\, Fork Union\, VA\, 23055\, United States
CATEGORIES:Athletic
END:VEVENT
BEGIN:VEVENT
DTSTART;TZID=America/New_York:20220419T160000
DTEND;TZID=America/New_York:20220419T160000
DTSTAMP:20260423T141508
CREATED:20220318T150744Z
LAST-MODIFIED:20220411T170502Z
UID:10002011-1650384000-1650384000@www.grovechristianschool.com
SUMMARY:Track & Field at Louisa County Middle School Meet
DESCRIPTION:
URL:https://www.grovechristianschool.com/gcsevent/track-field-at-charles-city-meet/
LOCATION:Louisa County Middle School\, 1009 Davis Hwy\, Mineral\, Virginia\, 23117
CATEGORIES:Athletic
END:VEVENT
BEGIN:VEVENT
DTSTART;TZID=America/New_York:20220415T000000
DTEND;TZID=America/New_York:20220415T235900
DTSTAMP:20260423T141508
CREATED:20210211T161237Z
LAST-MODIFIED:20210211T161238Z
UID:10001746-1649980800-1650067140@www.grovechristianschool.com
SUMMARY:Good Friday--No School
DESCRIPTION:Holiday/No School
URL:https://www.grovechristianschool.com/gcsevent/good-friday-no-school-2/
LOCATION:Grove Christian School\, 8701 Ridge Road\, Richmond\, VA\, 23229\, United States
CATEGORIES:Main
END:VEVENT
BEGIN:VEVENT
DTSTART;TZID=America/New_York:20220406T160000
DTEND;TZID=America/New_York:20220406T160000
DTSTAMP:20260423T141508
CREATED:20220318T150702Z
LAST-MODIFIED:20220405T175123Z
UID:10002008-1649260800-1649260800@www.grovechristianschool.com
SUMMARY:Track & Field at St Christopher's Meet
DESCRIPTION:
URL:https://www.grovechristianschool.com/gcsevent/track-field-at-st-christophers-meet/
LOCATION:St Christopher’s School\, 711 St Christopher's Rd\, Richmond\, VA\, 23226\, United States
CATEGORIES:Athletic
END:VEVENT
BEGIN:VEVENT
DTSTART;TZID=America/New_York:20220402T000000
DTEND;TZID=America/New_York:20220402T235959
DTSTAMP:20260423T141508
CREATED:20220318T150544Z
LAST-MODIFIED:20220318T150545Z
UID:10002007-1648857600-1648943999@www.grovechristianschool.com
SUMMARY:Track & Field at Walsingham Invitational
DESCRIPTION:
URL:https://www.grovechristianschool.com/gcsevent/track-field-at-walsingham-invitational-2/
LOCATION:Walsingham Academy\, 1100 Jamestown Rd\, Williamsburg\, VA\, 23185\, United States
CATEGORIES:Athletic
END:VEVENT
BEGIN:VEVENT
DTSTART;TZID=America/New_York:20220328T000000
DTEND;TZID=America/New_York:20220328T235959
DTSTAMP:20260423T141508
CREATED:20210211T160644Z
LAST-MODIFIED:20210211T160645Z
UID:10001747-1648425600-1648511999@www.grovechristianschool.com
SUMMARY:Fourth Quarter Begins
DESCRIPTION:
URL:https://www.grovechristianschool.com/gcsevent/fourth-quarter-begins-3/
LOCATION:Grove Christian School\, 8701 Ridge Road\, Richmond\, VA\, 23229\, United States
CATEGORIES:Academic,Main
END:VEVENT
END:VCALENDAR