BEGIN:VCALENDAR
VERSION:2.0
PRODID:-//Grove Christian School - Christian Leadership Academy - Richmond Virginia - Private School - ECPv6.15.5//NONSGML v1.0//EN
CALSCALE:GREGORIAN
METHOD:PUBLISH
X-ORIGINAL-URL:https://www.grovechristianschool.com
X-WR-CALDESC:Events for Grove Christian School - Christian Leadership Academy - Richmond Virginia - Private School
REFRESH-INTERVAL;VALUE=DURATION:PT1H
X-Robots-Tag:noindex
X-PUBLISHED-TTL:PT1H
BEGIN:VTIMEZONE
TZID:America/New_York
BEGIN:DAYLIGHT
TZOFFSETFROM:-0500
TZOFFSETTO:-0400
TZNAME:EDT
DTSTART:20220313T070000
END:DAYLIGHT
BEGIN:STANDARD
TZOFFSETFROM:-0400
TZOFFSETTO:-0500
TZNAME:EST
DTSTART:20221106T060000
END:STANDARD
END:VTIMEZONE
BEGIN:VEVENT
DTSTART;TZID=America/New_York:20221015T120000
DTEND;TZID=America/New_York:20221015T120000
DTSTAMP:20260423T181906
CREATED:20220829T122835Z
LAST-MODIFIED:20220829T122836Z
UID:10002096-1665835200-1665835200@www.grovechristianschool.com
SUMMARY:Cross Country at MileStat Invitational
DESCRIPTION:
URL:https://www.grovechristianschool.com/gcsevent/cross-country-at-milestat-invitational/
LOCATION:Pole Green Park\, 8996 Pole Green Park Ln\, Mechanicsville\, VA\, 23116\, United States
CATEGORIES:Athletic
END:VEVENT
BEGIN:VEVENT
DTSTART;TZID=America/New_York:20221013T163000
DTEND;TZID=America/New_York:20221013T173000
DTSTAMP:20260423T181906
CREATED:20220829T125122Z
LAST-MODIFIED:20220829T125123Z
UID:10002102-1665678600-1665682200@www.grovechristianschool.com
SUMMARY:MS Boys Soccer vs Elijah House Academy
DESCRIPTION:
URL:https://www.grovechristianschool.com/gcsevent/ms-boys-soccer-vs-elijah-house-academy/
LOCATION:St Joseph’s Villa\, 8000 Brook Rd\, Richmond\, Virginia\, 23227
CATEGORIES:Athletic
END:VEVENT
BEGIN:VEVENT
DTSTART;TZID=America/New_York:20221010T000000
DTEND;TZID=America/New_York:20221010T235900
DTSTAMP:20260423T181906
CREATED:20220517T165854Z
LAST-MODIFIED:20220517T165855Z
UID:10002032-1665360000-1665446340@www.grovechristianschool.com
SUMMARY:Student Holiday--No School\,  Teacher Inservice
DESCRIPTION:
URL:https://www.grovechristianschool.com/gcsevent/student-holiday-no-school-teacher-inservice-3/
LOCATION:Grove Christian School\, 8701 Ridge Road\, Richmond\, VA\, 23229\, United States
CATEGORIES:Academic,Main
END:VEVENT
BEGIN:VEVENT
DTSTART;TZID=America/New_York:20221003T163000
DTEND;TZID=America/New_York:20221003T173000
DTSTAMP:20260423T181906
CREATED:20220829T125029Z
LAST-MODIFIED:20220906T173636Z
UID:10002104-1664814600-1664818200@www.grovechristianschool.com
SUMMARY:MS Boys Soccer vs Grace Christian School
DESCRIPTION:
URL:https://www.grovechristianschool.com/gcsevent/ms-boys-soccer-vs-grace-christian-school/
LOCATION:St Joseph’s Villa\, 8000 Brook Rd\, Richmond\, Virginia\, 23227
CATEGORIES:Athletic
END:VEVENT
BEGIN:VEVENT
DTSTART;TZID=America/New_York:20221003T163000
DTEND;TZID=America/New_York:20221003T163000
DTSTAMP:20260423T181906
CREATED:20220819T145725Z
LAST-MODIFIED:20220819T145726Z
UID:10001734-1664814600-1664814600@www.grovechristianschool.com
SUMMARY:JV Volleyball at Collegiate School
DESCRIPTION:
URL:https://www.grovechristianschool.com/gcsevent/jv-volleyball-at-collegiate-school/
LOCATION:Collegiate School–Lower School Gym\, 103 N. Mooreland Road\, Richmond\, Virginia\, 23229
CATEGORIES:Athletic
END:VEVENT
BEGIN:VEVENT
DTSTART;TZID=America/New_York:20221003T160000
DTEND;TZID=America/New_York:20221003T170000
DTSTAMP:20260423T181906
CREATED:20220829T122537Z
LAST-MODIFIED:20220829T122538Z
UID:10002100-1664812800-1664816400@www.grovechristianschool.com
SUMMARY:Cross Country at Guardian Meet
DESCRIPTION:
URL:https://www.grovechristianschool.com/gcsevent/cross-country-at-guardian-meet-4/
LOCATION:Guardian Christian Academy\, 6851 Courthouse Rd\, Chesterfield\, VA\, 23832\, United States
CATEGORIES:Athletic
END:VEVENT
BEGIN:VEVENT
DTSTART;TZID=America/New_York:20220928T083000
DTEND;TZID=America/New_York:20220928T090000
DTSTAMP:20260423T181906
CREATED:20220517T165838Z
LAST-MODIFIED:20220921T225602Z
UID:10002033-1664353800-1664355600@www.grovechristianschool.com
SUMMARY:See You at the Pole
DESCRIPTION:
URL:https://www.grovechristianschool.com/gcsevent/see-you-at-the-pole-5/
LOCATION:Grove Christian School\, 8701 Ridge Road\, Richmond\, VA\, 23229\, United States
CATEGORIES:Academic,Main
END:VEVENT
BEGIN:VEVENT
DTSTART;TZID=America/New_York:20220927T163000
DTEND;TZID=America/New_York:20220927T173000
DTSTAMP:20260423T181906
CREATED:20220829T124914Z
LAST-MODIFIED:20220829T124915Z
UID:10002103-1664296200-1664299800@www.grovechristianschool.com
SUMMARY:MS Boys Soccer at Salem Christian School
DESCRIPTION:
URL:https://www.grovechristianschool.com/gcsevent/ms-boys-soccer-at-salem-christian-school/
LOCATION:Goochland County Parks and Recreation–Dogtown Rd\, 2748 Dogtown Rd\, Goochland\, VA\, 23063\, United States
CATEGORIES:Athletic
END:VEVENT
BEGIN:VEVENT
DTSTART;TZID=America/New_York:20220926T163000
DTEND;TZID=America/New_York:20220926T170000
DTSTAMP:20260423T181906
CREATED:20220907T181126Z
LAST-MODIFIED:20220907T181127Z
UID:10002108-1664209800-1664211600@www.grovechristianschool.com
SUMMARY:Cross Country at Steward Meet
DESCRIPTION:
URL:https://www.grovechristianschool.com/gcsevent/cross-country-at-steward-meet/
LOCATION:Deep Run Park\, 9900 Ridgefield Pkwy\, Richmond\, VA\, 23233\, United States
CATEGORIES:Athletic
END:VEVENT
BEGIN:VEVENT
DTSTART;TZID=America/New_York:20220922T180000
DTEND;TZID=America/New_York:20220922T200000
DTSTAMP:20260423T181906
CREATED:20220517T165825Z
LAST-MODIFIED:20220711T150354Z
UID:10002034-1663869600-1663876800@www.grovechristianschool.com
SUMMARY:Back to School Night
DESCRIPTION:
URL:https://www.grovechristianschool.com/gcsevent/back-to-school-night-5/
LOCATION:Grove Christian School\, 8701 Ridge Road\, Richmond\, VA\, 23229\, United States
CATEGORIES:Academic,Main
END:VEVENT
BEGIN:VEVENT
DTSTART;TZID=America/New_York:20220919T160000
DTEND;TZID=America/New_York:20220919T170000
DTSTAMP:20260423T181906
CREATED:20220829T122620Z
LAST-MODIFIED:20221019T133140Z
UID:10002098-1663603200-1663606800@www.grovechristianschool.com
SUMMARY:Cross Country at Richmond Christian Meet
DESCRIPTION:
URL:https://www.grovechristianschool.com/gcsevent/cross-country-at-richmond-christian-meet/
LOCATION:Richmond Christian School\, 8215\, 6511 Belmont Rd\, Chesterfield\, VA\, 23832\, United States
CATEGORIES:Athletic
END:VEVENT
BEGIN:VEVENT
DTSTART;TZID=America/New_York:20220919T160000
DTEND;TZID=America/New_York:20220919T160000
DTSTAMP:20260423T181906
CREATED:20220829T124809Z
LAST-MODIFIED:20220829T124810Z
UID:10002105-1663603200-1663603200@www.grovechristianschool.com
SUMMARY:MS Boys Soccer at Grace Christian School
DESCRIPTION:
URL:https://www.grovechristianschool.com/gcsevent/ms-boys-soccer-at-grace-christian-school/
LOCATION:Courthouse Park\, 7232 Courtland Farm Rd\, Hanover\, VA\, 23069\, United States
CATEGORIES:Athletic
END:VEVENT
BEGIN:VEVENT
DTSTART;TZID=America/New_York:20220917T120000
DTEND;TZID=America/New_York:20220917T120000
DTSTAMP:20260423T181906
CREATED:20220829T122719Z
LAST-MODIFIED:20220829T122720Z
UID:10002099-1663416000-1663416000@www.grovechristianschool.com
SUMMARY:Cross Country at Fork Union Invitational
DESCRIPTION:
URL:https://www.grovechristianschool.com/gcsevent/cross-country-at-fork-union-invitational/
LOCATION:Fork Union Military Academy\, 4744 James Madison Hwy\, Fork Union\, VA\, 23055\, United States
CATEGORIES:Athletic
END:VEVENT
BEGIN:VEVENT
DTSTART;TZID=America/New_York:20220917T000000
DTEND;TZID=America/New_York:20220917T235959
DTSTAMP:20260423T181906
CREATED:20220706T182902Z
LAST-MODIFIED:20220706T182903Z
UID:10002081-1663372800-1663459199@www.grovechristianschool.com
SUMMARY:Varsity Volleyball at King George Tournament
DESCRIPTION:
URL:https://www.grovechristianschool.com/gcsevent/varsity-volleyball-at-king-george-tournament/
LOCATION:King George High School\, 10100 Foxes Way\, King George\, Virginia\, 22485
CATEGORIES:Athletic
END:VEVENT
BEGIN:VEVENT
DTSTART;TZID=America/New_York:20220912T160000
DTEND;TZID=America/New_York:20220912T170000
DTSTAMP:20260423T181906
CREATED:20220829T122304Z
LAST-MODIFIED:20220829T122305Z
UID:10002095-1662998400-1663002000@www.grovechristianschool.com
SUMMARY:Cross Country at Williamsburg Meet
DESCRIPTION:
URL:https://www.grovechristianschool.com/gcsevent/cross-country-at-williamsburg-meet-3/
LOCATION:Williamsburg Christian Academy\, 101 School House Ln\, Williamsburg\, VA\, 23188\, United States
CATEGORIES:Athletic
END:VEVENT
BEGIN:VEVENT
DTSTART;TZID=America/New_York:20220910T120000
DTEND;TZID=America/New_York:20220910T120000
DTSTAMP:20260423T181906
CREATED:20220829T122231Z
LAST-MODIFIED:20220829T122232Z
UID:10002101-1662811200-1662811200@www.grovechristianschool.com
SUMMARY:Cross Country at Pole Green Cross Country Classic
DESCRIPTION:
URL:https://www.grovechristianschool.com/gcsevent/cross-country-at-pole-green-cross-country-classic/
LOCATION:Pole Green Park\, 8996 Pole Green Park Ln\, Mechanicsville\, VA\, 23116\, United States
CATEGORIES:Athletic
END:VEVENT
BEGIN:VEVENT
DTSTART;TZID=America/New_York:20220909T160000
DTEND;TZID=America/New_York:20220909T160000
DTSTAMP:20260423T181906
CREATED:20220902T143947Z
LAST-MODIFIED:20220902T143948Z
UID:10002107-1662739200-1662739200@www.grovechristianschool.com
SUMMARY:JV Volleyball vs Collegiate School
DESCRIPTION:
URL:https://www.grovechristianschool.com/gcsevent/jv-volleyball-vs-collegiate-school/
LOCATION:Grove Christian School\, 8701 Ridge Road\, Richmond\, VA\, 23229\, United States
CATEGORIES:Athletic
END:VEVENT
BEGIN:VEVENT
DTSTART;TZID=America/New_York:20220905T000000
DTEND;TZID=America/New_York:20220905T235900
DTSTAMP:20260423T181906
CREATED:20220517T165749Z
LAST-MODIFIED:20220517T165750Z
UID:10002035-1662336000-1662422340@www.grovechristianschool.com
SUMMARY:Labor Day--No School
DESCRIPTION:
URL:https://www.grovechristianschool.com/gcsevent/labor-day-no-school-4/
LOCATION:Grove Christian School\, 8701 Ridge Road\, Richmond\, VA\, 23229\, United States
CATEGORIES:Academic,Main
END:VEVENT
BEGIN:VEVENT
DTSTART;TZID=America/New_York:20220903T000000
DTEND;TZID=America/New_York:20220903T235959
DTSTAMP:20260423T181906
CREATED:20220706T182715Z
LAST-MODIFIED:20220706T183010Z
UID:10002077-1662163200-1662249599@www.grovechristianschool.com
SUMMARY:Varsity Volleyball at RVC Invitational
DESCRIPTION:
URL:https://www.grovechristianschool.com/gcsevent/varsity-volleyball-at-rvc-invitational-2/
LOCATION:Richmond Volleyball Club\, 2921 Byrdhill Rd\, Richmond\, Virginia\, 23228
CATEGORIES:Athletic
END:VEVENT
BEGIN:VEVENT
DTSTART;TZID=America/New_York:20220902T000000
DTEND;TZID=America/New_York:20220902T235959
DTSTAMP:20260423T181906
CREATED:20220706T182700Z
LAST-MODIFIED:20220706T183025Z
UID:10002078-1662076800-1662163199@www.grovechristianschool.com
SUMMARY:Varsity Volleyball at RVC Invitational
DESCRIPTION:
URL:https://www.grovechristianschool.com/gcsevent/varsity-volleyball-at-rvc-invitational/
LOCATION:Richmond Volleyball Club\, 2921 Byrdhill Rd\, Richmond\, Virginia\, 23228
CATEGORIES:Athletic
END:VEVENT
BEGIN:VEVENT
DTSTART;TZID=America/New_York:20220827T000000
DTEND;TZID=America/New_York:20220827T235959
DTSTAMP:20260423T181906
CREATED:20220706T182641Z
LAST-MODIFIED:20220706T182642Z
UID:10002079-1661558400-1661644799@www.grovechristianschool.com
SUMMARY:Varsity Volleyball at GCS Invitational
DESCRIPTION:
URL:https://www.grovechristianschool.com/gcsevent/varsity-volleyball-at-gcs-invitational-4/
LOCATION:Grove Christian School\, 8701 Ridge Road\, Richmond\, VA\, 23229\, United States
CATEGORIES:Athletic
END:VEVENT
BEGIN:VEVENT
DTSTART;TZID=America/New_York:20220826T000000
DTEND;TZID=America/New_York:20220826T235959
DTSTAMP:20260423T181906
CREATED:20220706T182629Z
LAST-MODIFIED:20220706T182630Z
UID:10002080-1661472000-1661558399@www.grovechristianschool.com
SUMMARY:Varsity Volleyball at GCS Invitational
DESCRIPTION:
URL:https://www.grovechristianschool.com/gcsevent/varsity-volleyball-at-gcs-invitational-3/
LOCATION:Grove Christian School\, 8701 Ridge Road\, Richmond\, VA\, 23229\, United States
CATEGORIES:Athletic
END:VEVENT
BEGIN:VEVENT
DTSTART;TZID=America/New_York:20220818T000000
DTEND;TZID=America/New_York:20220818T115900
DTSTAMP:20260423T181906
CREATED:20220517T165735Z
LAST-MODIFIED:20220517T165736Z
UID:10002036-1660780800-1660823940@www.grovechristianschool.com
SUMMARY:First Day of School
DESCRIPTION:
URL:https://www.grovechristianschool.com/gcsevent/first-day-of-school-4/
LOCATION:Grove Christian School\, 8701 Ridge Road\, Richmond\, VA\, 23229\, United States
CATEGORIES:Academic,Main
END:VEVENT
BEGIN:VEVENT
DTSTART;TZID=America/New_York:20220816T180000
DTEND;TZID=America/New_York:20220816T200000
DTSTAMP:20260423T181906
CREATED:20220517T165720Z
LAST-MODIFIED:20220517T165721Z
UID:10002037-1660672800-1660680000@www.grovechristianschool.com
SUMMARY:Opening Ceremony
DESCRIPTION:
URL:https://www.grovechristianschool.com/gcsevent/opening-ceremony-4/
LOCATION:Grove Christian School\, 8701 Ridge Road\, Richmond\, VA\, 23229\, United States
CATEGORIES:Academic,Main
END:VEVENT
BEGIN:VEVENT
DTSTART;TZID=America/New_York:20220815T000000
DTEND;TZID=America/New_York:20220817T235900
DTSTAMP:20260423T181906
CREATED:20220517T165704Z
LAST-MODIFIED:20220517T165705Z
UID:10002038-1660521600-1660780740@www.grovechristianschool.com
SUMMARY:Teacher Inservice
DESCRIPTION:
URL:https://www.grovechristianschool.com/gcsevent/teacher-inservice-14/
LOCATION:Grove Christian School\, 8701 Ridge Road\, Richmond\, VA\, 23229\, United States
CATEGORIES:Academic,Main
END:VEVENT
BEGIN:VEVENT
DTSTART;TZID=America/New_York:20220811T000000
DTEND;TZID=America/New_York:20220812T235900
DTSTAMP:20260423T181906
CREATED:20220517T165649Z
LAST-MODIFIED:20220517T165650Z
UID:10002039-1660176000-1660348740@www.grovechristianschool.com
SUMMARY:Teacher Inservice
DESCRIPTION:
URL:https://www.grovechristianschool.com/gcsevent/teacher-inservice-13/
LOCATION:Grove Christian School\, 8701 Ridge Road\, Richmond\, VA\, 23229\, United States
CATEGORIES:Academic,Main
END:VEVENT
BEGIN:VEVENT
DTSTART;TZID=America/New_York:20220801T000000
DTEND;TZID=America/New_York:20220801T235900
DTSTAMP:20260423T181906
CREATED:20220517T165633Z
LAST-MODIFIED:20220517T165634Z
UID:10002040-1659312000-1659398340@www.grovechristianschool.com
SUMMARY:Fall Sports Practices Begin
DESCRIPTION:
URL:https://www.grovechristianschool.com/gcsevent/fall-sports-practices-begin-5/
LOCATION:Grove Christian School\, 8701 Ridge Road\, Richmond\, VA\, 23229\, United States
CATEGORIES:Academic,Athletic,Main
END:VEVENT
BEGIN:VEVENT
DTSTART;TZID=America/New_York:20220531T000000
DTEND;TZID=America/New_York:20220531T235900
DTSTAMP:20260423T181906
CREATED:20210414T160005Z
LAST-MODIFIED:20210414T160010Z
UID:10001805-1653955200-1654041540@www.grovechristianschool.com
SUMMARY:Teacher Inservice
DESCRIPTION:
URL:https://www.grovechristianschool.com/gcsevent/teacher-inservice-10/
LOCATION:Grove Christian School\, 8701 Ridge Road\, Richmond\, VA\, 23229\, United States
CATEGORIES:Academic,Main
END:VEVENT
BEGIN:VEVENT
DTSTART;TZID=America/New_York:20220530T000000
DTEND;TZID=America/New_York:20220530T235900
DTSTAMP:20260423T181906
CREATED:20210414T160028Z
LAST-MODIFIED:20210414T160029Z
UID:10001807-1653868800-1653955140@www.grovechristianschool.com
SUMMARY:Memorial Day
DESCRIPTION:
URL:https://www.grovechristianschool.com/gcsevent/memorial-day-4/
LOCATION:Grove Christian School\, 8701 Ridge Road\, Richmond\, VA\, 23229\, United States
CATEGORIES:Academic,Main
END:VEVENT
BEGIN:VEVENT
DTSTART;TZID=America/New_York:20220528T110000
DTEND;TZID=America/New_York:20220528T120000
DTSTAMP:20260423T181906
CREATED:20210414T160025Z
LAST-MODIFIED:20230201T202652Z
UID:10001809-1653735600-1653739200@www.grovechristianschool.com
SUMMARY:High School Baccalaureate
DESCRIPTION:
URL:https://www.grovechristianschool.com/gcsevent/high-school-baccalaureate-2/
LOCATION:Grove Christian School\, 8701 Ridge Road\, Richmond\, VA\, 23229\, United States
CATEGORIES:Main
END:VEVENT
END:VCALENDAR