BEGIN:VCALENDAR
VERSION:2.0
PRODID:-//Grove Christian School - Christian Leadership Academy - Richmond Virginia - Private School - ECPv6.15.5//NONSGML v1.0//EN
CALSCALE:GREGORIAN
METHOD:PUBLISH
X-ORIGINAL-URL:https://www.grovechristianschool.com
X-WR-CALDESC:Events for Grove Christian School - Christian Leadership Academy - Richmond Virginia - Private School
REFRESH-INTERVAL;VALUE=DURATION:PT1H
X-Robots-Tag:noindex
X-PUBLISHED-TTL:PT1H
BEGIN:VTIMEZONE
TZID:America/New_York
BEGIN:DAYLIGHT
TZOFFSETFROM:-0500
TZOFFSETTO:-0400
TZNAME:EDT
DTSTART:20220313T070000
END:DAYLIGHT
BEGIN:STANDARD
TZOFFSETFROM:-0400
TZOFFSETTO:-0500
TZNAME:EST
DTSTART:20221106T060000
END:STANDARD
BEGIN:DAYLIGHT
TZOFFSETFROM:-0500
TZOFFSETTO:-0400
TZNAME:EDT
DTSTART:20230312T070000
END:DAYLIGHT
BEGIN:STANDARD
TZOFFSETFROM:-0400
TZOFFSETTO:-0500
TZNAME:EST
DTSTART:20231105T060000
END:STANDARD
END:VTIMEZONE
BEGIN:VEVENT
DTSTART;TZID=America/New_York:20221221T000000
DTEND;TZID=America/New_York:20230102T235900
DTSTAMP:20260420T215237
CREATED:20220517T170424Z
LAST-MODIFIED:20220517T170515Z
UID:10002026-1671580800-1672703940@www.grovechristianschool.com
SUMMARY:Christmas Break
DESCRIPTION:
URL:https://www.grovechristianschool.com/gcsevent/christmas-break-5/
LOCATION:Grove Christian School\, 8701 Ridge Road\, Richmond\, VA\, 23229\, United States
CATEGORIES:Academic,Main
END:VEVENT
BEGIN:VEVENT
DTSTART;TZID=America/New_York:20221209T200000
DTEND;TZID=America/New_York:20221209T200000
DTSTAMP:20260420T215237
CREATED:20221201T175651Z
LAST-MODIFIED:20221201T175653Z
UID:10001790-1670616000-1670616000@www.grovechristianschool.com
SUMMARY:Varsity Boys Basketball at Kenston Forest
DESCRIPTION:
URL:https://www.grovechristianschool.com/gcsevent/varsity-boys-basketball-at-kenston-forest/
LOCATION:Kenston Forest School\, 75 Ridge Rd\, Blackstone\, VA\, 23824\, United States
CATEGORIES:Athletic
END:VEVENT
BEGIN:VEVENT
DTSTART;TZID=America/New_York:20221209T183000
DTEND;TZID=America/New_York:20221209T183000
DTSTAMP:20260420T215237
CREATED:20221201T175636Z
LAST-MODIFIED:20221201T175637Z
UID:10002142-1670610600-1670610600@www.grovechristianschool.com
SUMMARY:Varsity Girls Basketball at Kenston Forest
DESCRIPTION:
URL:https://www.grovechristianschool.com/gcsevent/varsity-girls-basketball-at-kenston-forest/
LOCATION:Kenston Forest School\, 75 Ridge Rd\, Blackstone\, VA\, 23824\, United States
CATEGORIES:Athletic
END:VEVENT
BEGIN:VEVENT
DTSTART;TZID=America/New_York:20221209T173000
DTEND;TZID=America/New_York:20221209T173000
DTSTAMP:20260420T215237
CREATED:20221201T175618Z
LAST-MODIFIED:20221201T175620Z
UID:10001791-1670607000-1670607000@www.grovechristianschool.com
SUMMARY:MS Boys Basketball at Kenston Forest
DESCRIPTION:
URL:https://www.grovechristianschool.com/gcsevent/ms-boys-basketball-at-kenston-forest/
LOCATION:Kenston Forest School\, 75 Ridge Rd\, Blackstone\, VA\, 23824\, United States
CATEGORIES:Athletic
END:VEVENT
BEGIN:VEVENT
DTSTART;TZID=America/New_York:20221209T163000
DTEND;TZID=America/New_York:20221209T163000
DTSTAMP:20260420T215237
CREATED:20221201T175532Z
LAST-MODIFIED:20221201T175534Z
UID:10001789-1670603400-1670603400@www.grovechristianschool.com
SUMMARY:MS Girls Basketball at Kenston Forest
DESCRIPTION:
URL:https://www.grovechristianschool.com/gcsevent/ms-girls-basketball-at-kenston-forest/
LOCATION:Kenston Forest School\, 75 Ridge Rd\, Blackstone\, VA\, 23824\, United States
CATEGORIES:Athletic
END:VEVENT
BEGIN:VEVENT
DTSTART;TZID=America/New_York:20221205T183000
DTEND;TZID=America/New_York:20221205T183000
DTSTAMP:20260420T215237
CREATED:20221201T175431Z
LAST-MODIFIED:20221202T223226Z
UID:10001788-1670265000-1670265000@www.grovechristianschool.com
SUMMARY:Varsity Boys Basketball at Cristo Rey
DESCRIPTION:
URL:https://www.grovechristianschool.com/gcsevent/varsity-boys-basketball-at-cristo-rey/
LOCATION:Cristo Rey Richmond High School\, 313 N Belmont Ave\, Richmond\, VA\, 23221\, United States
CATEGORIES:Athletic
END:VEVENT
BEGIN:VEVENT
DTSTART;TZID=America/New_York:20221129T180000
DTEND;TZID=America/New_York:20221129T180000
DTSTAMP:20260420T215237
CREATED:20221201T174652Z
LAST-MODIFIED:20221201T174653Z
UID:10002138-1669744800-1669744800@www.grovechristianschool.com
SUMMARY:Varsity Girls Basketball vs Cristo Rey
DESCRIPTION:
URL:https://www.grovechristianschool.com/gcsevent/varsity-girls-basketball-vs-cristo-rey/
LOCATION:Grove Christian School\, 8701 Ridge Road\, Richmond\, VA\, 23229\, United States
CATEGORIES:Athletic
END:VEVENT
BEGIN:VEVENT
DTSTART;TZID=America/New_York:20221129T163000
DTEND;TZID=America/New_York:20221129T163000
DTSTAMP:20260420T215237
CREATED:20221201T174612Z
LAST-MODIFIED:20221201T174613Z
UID:10002137-1669739400-1669739400@www.grovechristianschool.com
SUMMARY:Varsity Boys Basketball vs Richmond Christian
DESCRIPTION:
URL:https://www.grovechristianschool.com/gcsevent/varsity-boys-basketball-vs-richmond-christian/
LOCATION:Grove Christian School\, 8701 Ridge Road\, Richmond\, VA\, 23229\, United States
CATEGORIES:Athletic
END:VEVENT
BEGIN:VEVENT
DTSTART;TZID=America/New_York:20221123T000000
DTEND;TZID=America/New_York:20221125T235900
DTSTAMP:20260420T215237
CREATED:20220517T170410Z
LAST-MODIFIED:20220517T170411Z
UID:10002027-1669161600-1669420740@www.grovechristianschool.com
SUMMARY:Thanksgiving Break
DESCRIPTION:
URL:https://www.grovechristianschool.com/gcsevent/thanksgiving-break-4/
LOCATION:Grove Christian School\, 8701 Ridge Road\, Richmond\, VA\, 23229\, United States
CATEGORIES:Academic,Main
END:VEVENT
BEGIN:VEVENT
DTSTART;TZID=America/New_York:20221121T171500
DTEND;TZID=America/New_York:20221121T171500
DTSTAMP:20260420T215237
CREATED:20221201T174516Z
LAST-MODIFIED:20221201T174517Z
UID:10002136-1669050900-1669050900@www.grovechristianschool.com
SUMMARY:Varsity Boys Basketball vs Amelia Academy (Scrimmage)
DESCRIPTION:
URL:https://www.grovechristianschool.com/gcsevent/varsity-boys-basketball-vs-amelia-academy-scrimmage/
LOCATION:Grove Christian School\, 8701 Ridge Road\, Richmond\, VA\, 23229\, United States
CATEGORIES:Athletic
END:VEVENT
BEGIN:VEVENT
DTSTART;TZID=America/New_York:20221121T160000
DTEND;TZID=America/New_York:20221121T160000
DTSTAMP:20260420T215237
CREATED:20221201T174452Z
LAST-MODIFIED:20221201T174453Z
UID:10002135-1669046400-1669046400@www.grovechristianschool.com
SUMMARY:Varsity Girls Basketball vs Amelia Academy (Scrimmage)
DESCRIPTION:
URL:https://www.grovechristianschool.com/gcsevent/varsity-girls-basketball-vs-amelia-academy-scrimmage/
LOCATION:Grove Christian School\, 8701 Ridge Road\, Richmond\, VA\, 23229\, United States
CATEGORIES:Athletic
END:VEVENT
BEGIN:VEVENT
DTSTART;TZID=America/New_York:20221121T000000
DTEND;TZID=America/New_York:20221122T235900
DTSTAMP:20260420T215237
CREATED:20220517T170357Z
LAST-MODIFIED:20220517T170358Z
UID:10002028-1668988800-1669161540@www.grovechristianschool.com
SUMMARY:Student Holiday--Teacher Inservice
DESCRIPTION:
URL:https://www.grovechristianschool.com/gcsevent/student-holiday-teacher-inservice-3/
LOCATION:Grove Christian School\, 8701 Ridge Road\, Richmond\, VA\, 23229\, United States
CATEGORIES:Academic,Main
END:VEVENT
BEGIN:VEVENT
DTSTART;TZID=America/New_York:20221115T184500
DTEND;TZID=America/New_York:20221115T184500
DTSTAMP:20260420T215237
CREATED:20221201T174405Z
LAST-MODIFIED:20221201T174406Z
UID:10002134-1668537900-1668537900@www.grovechristianschool.com
SUMMARY:Varsity Boys Basketball vs James River Homeschool (Scrimmage)
DESCRIPTION:
URL:https://www.grovechristianschool.com/gcsevent/varsity-boys-basketball-vs-james-river-homeschool-scrimmage/
LOCATION:Grove Christian School\, 8701 Ridge Road\, Richmond\, VA\, 23229\, United States
CATEGORIES:Athletic
END:VEVENT
BEGIN:VEVENT
DTSTART;TZID=America/New_York:20221115T173000
DTEND;TZID=America/New_York:20221115T173000
DTSTAMP:20260420T215237
CREATED:20221201T174309Z
LAST-MODIFIED:20221201T174310Z
UID:10002133-1668533400-1668533400@www.grovechristianschool.com
SUMMARY:MS Boys Basketball vs James River Homeschool (Scrimmage)
DESCRIPTION:
URL:https://www.grovechristianschool.com/gcsevent/ms-boys-basketball-vs-james-river-homeschool-scrimmage/
LOCATION:Grove Christian School\, 8701 Ridge Road\, Richmond\, VA\, 23229\, United States
CATEGORIES:Athletic
END:VEVENT
BEGIN:VEVENT
DTSTART;TZID=America/New_York:20221111T133000
DTEND;TZID=America/New_York:20221111T133000
DTSTAMP:20260420T215237
CREATED:20220829T122504Z
LAST-MODIFIED:20221025T145052Z
UID:10002093-1668173400-1668173400@www.grovechristianschool.com
SUMMARY:Cross Country at VISAA State Meet
DESCRIPTION:
URL:https://www.grovechristianschool.com/gcsevent/cross-country-at-visaa-state-meet/
LOCATION:Woodberry Forest School\, 898 Woodberry Forest Rd\, Woodberry Forest\, VA\, 22989\, United States
CATEGORIES:Athletic
END:VEVENT
BEGIN:VEVENT
DTSTART;TZID=America/New_York:20221108T180000
DTEND;TZID=America/New_York:20221108T180000
DTSTAMP:20260420T215237
CREATED:20221107T130031Z
LAST-MODIFIED:20221107T130038Z
UID:10002112-1667930400-1667930400@www.grovechristianschool.com
SUMMARY:Varsity Volleyball at Southampton Academy (VISAA Quarterfinals)
DESCRIPTION:
URL:https://www.grovechristianschool.com/gcsevent/varsity-volleyball-at-southampton-academy-visaa-quarterfinals/
CATEGORIES:Athletic
END:VEVENT
BEGIN:VEVENT
DTSTART;TZID=America/New_York:20221108T000000
DTEND;TZID=America/New_York:20221108T235900
DTSTAMP:20260420T215237
CREATED:20220517T165941Z
LAST-MODIFIED:20220517T165942Z
UID:10002029-1667865600-1667951940@www.grovechristianschool.com
SUMMARY:Election Day--No School\, Teacher Inservice
DESCRIPTION:
URL:https://www.grovechristianschool.com/gcsevent/election-day-no-school-teacher-inservice-3/
LOCATION:Grove Christian School\, 8701 Ridge Road\, Richmond\, VA\, 23229\, United States
CATEGORIES:Academic,Main
END:VEVENT
BEGIN:VEVENT
DTSTART;TZID=America/New_York:20221104T183000
DTEND;TZID=America/New_York:20221104T183000
DTSTAMP:20260420T215237
CREATED:20220719T171623Z
LAST-MODIFIED:20221103T115100Z
UID:10002089-1667586600-1667586600@www.grovechristianschool.com
SUMMARY:Varsity Volleyball vs Grace Christian (VMAC Championship)
DESCRIPTION:
URL:https://www.grovechristianschool.com/gcsevent/varsity-volleyball-at-vmac-championship-2/
LOCATION:Carmel School\, 9020 Jericho Rd\, Ruther Glen\, VA\, 22546\, United States
CATEGORIES:Athletic
END:VEVENT
BEGIN:VEVENT
DTSTART;TZID=America/New_York:20221104T170000
DTEND;TZID=America/New_York:20221104T170000
DTSTAMP:20260420T215237
CREATED:20220719T171541Z
LAST-MODIFIED:20221103T115118Z
UID:10002091-1667581200-1667581200@www.grovechristianschool.com
SUMMARY:MS Volleyball vs Guardian Christian (VMAC Championship)
DESCRIPTION:
URL:https://www.grovechristianschool.com/gcsevent/ms-volleyball-at-vmac-championship-2/
LOCATION:Carmel School\, 9020 Jericho Rd\, Ruther Glen\, VA\, 22546\, United States
CATEGORIES:Athletic
END:VEVENT
BEGIN:VEVENT
DTSTART;TZID=America/New_York:20221101T183000
DTEND;TZID=America/New_York:20221101T183000
DTSTAMP:20260420T215237
CREATED:20220719T171311Z
LAST-MODIFIED:20221103T115207Z
UID:10002088-1667327400-1667327400@www.grovechristianschool.com
SUMMARY:Varsity Volleyball vs Carmel School (VMAC Semifinals)
DESCRIPTION:
URL:https://www.grovechristianschool.com/gcsevent/varsity-volleyball-at-vmac-semifinals-3/
LOCATION:Carmel School\, 9020 Jericho Rd\, Ruther Glen\, VA\, 22546\, United States
CATEGORIES:Athletic
END:VEVENT
BEGIN:VEVENT
DTSTART;TZID=America/New_York:20221101T170000
DTEND;TZID=America/New_York:20221101T170000
DTSTAMP:20260420T215237
CREATED:20220719T171356Z
LAST-MODIFIED:20221103T115147Z
UID:10002087-1667322000-1667322000@www.grovechristianschool.com
SUMMARY:MS Volleyball vs Carmel School (VMAC Semifinals)
DESCRIPTION:
URL:https://www.grovechristianschool.com/gcsevent/ms-volleyball-at-vmac-semifinals-3/
LOCATION:Carmel School\, 9020 Jericho Rd\, Ruther Glen\, VA\, 22546\, United States
CATEGORIES:Athletic
END:VEVENT
BEGIN:VEVENT
DTSTART;TZID=America/New_York:20221029T100000
DTEND;TZID=America/New_York:20221029T100000
DTSTAMP:20260420T215237
CREATED:20220829T122402Z
LAST-MODIFIED:20221024T174304Z
UID:10001744-1667037600-1667037600@www.grovechristianschool.com
SUMMARY:Cross Country at VMAC Championship Meet
DESCRIPTION:
URL:https://www.grovechristianschool.com/gcsevent/cross-country-at-vmac-championship-meet-4/
LOCATION:Richmond Christian School\, 8215\, 6511 Belmont Rd\, Chesterfield\, VA\, 23832\, United States
CATEGORIES:Athletic
END:VEVENT
BEGIN:VEVENT
DTSTART;TZID=America/New_York:20221028T160000
DTEND;TZID=America/New_York:20221028T160000
DTSTAMP:20260420T215237
CREATED:20220719T171652Z
LAST-MODIFIED:20221024T174327Z
UID:10002090-1666972800-1666972800@www.grovechristianschool.com
SUMMARY:Varsity Boys Soccer at Williamsburg Christian (VMAC Semifinals)
DESCRIPTION:
URL:https://www.grovechristianschool.com/gcsevent/varsity-boys-soccer-at-vmac-quarterfinals/
LOCATION:Williamsburg Christian Academy\, 101 School House Ln\, Williamsburg\, VA\, 23188\, United States
CATEGORIES:Athletic
END:VEVENT
BEGIN:VEVENT
DTSTART;TZID=America/New_York:20221027T174500
DTEND;TZID=America/New_York:20221027T174500
DTSTAMP:20260420T215237
CREATED:20220927T195447Z
LAST-MODIFIED:20220927T195610Z
UID:10002110-1666892700-1666892700@www.grovechristianschool.com
SUMMARY:Varsity Volleyball vs New Community
DESCRIPTION:
URL:https://www.grovechristianschool.com/gcsevent/varsity-volleyball-vs-new-community/
LOCATION:Grove Christian School\, 8701 Ridge Road\, Richmond\, VA\, 23229\, United States
CATEGORIES:Athletic
END:VEVENT
BEGIN:VEVENT
DTSTART;TZID=America/New_York:20221027T163000
DTEND;TZID=America/New_York:20221027T163000
DTSTAMP:20260420T215237
CREATED:20220927T195540Z
LAST-MODIFIED:20221012T134915Z
UID:10002111-1666888200-1666888200@www.grovechristianschool.com
SUMMARY:MS Volleyball vs New Community
DESCRIPTION:
URL:https://www.grovechristianschool.com/gcsevent/ms-volleyball-vs-new-community/
LOCATION:Grove Christian School\, 8701 Ridge Road\, Richmond\, VA\, 23229\, United States
CATEGORIES:Athletic
END:VEVENT
BEGIN:VEVENT
DTSTART;TZID=America/New_York:20221025T160000
DTEND;TZID=America/New_York:20221025T160000
DTSTAMP:20260420T215237
CREATED:20220819T145209Z
LAST-MODIFIED:20220819T145210Z
UID:10001736-1666713600-1666713600@www.grovechristianschool.com
SUMMARY:JV Volleyball vs Salem Christian School
DESCRIPTION:
URL:https://www.grovechristianschool.com/gcsevent/jv-volleyball-vs-salem-christian-school/
LOCATION:Grove Christian School\, 8701 Ridge Road\, Richmond\, VA\, 23229\, United States
CATEGORIES:Athletic
END:VEVENT
BEGIN:VEVENT
DTSTART;TZID=America/New_York:20221024T160000
DTEND;TZID=America/New_York:20221024T170000
DTSTAMP:20260420T215237
CREATED:20220829T122901Z
LAST-MODIFIED:20220829T122902Z
UID:10002094-1666627200-1666630800@www.grovechristianschool.com
SUMMARY:Cross Country at Williamsburg Meet
DESCRIPTION:
URL:https://www.grovechristianschool.com/gcsevent/cross-country-at-williamsburg-meet-4/
LOCATION:Williamsburg Christian Academy\, 101 School House Ln\, Williamsburg\, VA\, 23188\, United States
CATEGORIES:Athletic
END:VEVENT
BEGIN:VEVENT
DTSTART;TZID=America/New_York:20221024T000000
DTEND;TZID=America/New_York:20221024T235900
DTSTAMP:20260420T215237
CREATED:20220517T165927Z
LAST-MODIFIED:20220517T165928Z
UID:10002030-1666569600-1666655940@www.grovechristianschool.com
SUMMARY:Second Quarter Begins
DESCRIPTION:
URL:https://www.grovechristianschool.com/gcsevent/second-quarter-begins-4/
LOCATION:Grove Christian School\, 8701 Ridge Road\, Richmond\, VA\, 23229\, United States
CATEGORIES:Academic,Main
END:VEVENT
BEGIN:VEVENT
DTSTART;TZID=America/New_York:20221021T000000
DTEND;TZID=America/New_York:20221021T235900
DTSTAMP:20260420T215237
CREATED:20220517T165910Z
LAST-MODIFIED:20220517T165911Z
UID:10002031-1666310400-1666396740@www.grovechristianschool.com
SUMMARY:First Quarter Ends
DESCRIPTION:
URL:https://www.grovechristianschool.com/gcsevent/first-quarter-ends-4/
LOCATION:Grove Christian School\, 8701 Ridge Road\, Richmond\, VA\, 23229\, United States
CATEGORIES:Academic,Main
END:VEVENT
BEGIN:VEVENT
DTSTART;TZID=America/New_York:20221017T160000
DTEND;TZID=America/New_York:20221017T170000
DTSTAMP:20260420T215237
CREATED:20220829T122913Z
LAST-MODIFIED:20220829T122914Z
UID:10002097-1666022400-1666026000@www.grovechristianschool.com
SUMMARY:Cross Country at Guardian Meet
DESCRIPTION:
URL:https://www.grovechristianschool.com/gcsevent/cross-country-at-guardian-meet-5/
LOCATION:Guardian Christian Academy\, 6851 Courthouse Rd\, Chesterfield\, VA\, 23832\, United States
CATEGORIES:Athletic
END:VEVENT
END:VCALENDAR