BEGIN:VCALENDAR
VERSION:2.0
PRODID:-//Grove Christian School - Christian Leadership Academy - Richmond Virginia - Private School - ECPv6.15.5//NONSGML v1.0//EN
CALSCALE:GREGORIAN
METHOD:PUBLISH
X-ORIGINAL-URL:https://www.grovechristianschool.com
X-WR-CALDESC:Events for Grove Christian School - Christian Leadership Academy - Richmond Virginia - Private School
REFRESH-INTERVAL;VALUE=DURATION:PT1H
X-Robots-Tag:noindex
X-PUBLISHED-TTL:PT1H
BEGIN:VTIMEZONE
TZID:America/New_York
BEGIN:DAYLIGHT
TZOFFSETFROM:-0500
TZOFFSETTO:-0400
TZNAME:EDT
DTSTART:20250309T070000
END:DAYLIGHT
BEGIN:STANDARD
TZOFFSETFROM:-0400
TZOFFSETTO:-0500
TZNAME:EST
DTSTART:20251102T060000
END:STANDARD
END:VTIMEZONE
BEGIN:VEVENT
DTSTART;TZID=America/New_York:20250123T170000
DTEND;TZID=America/New_York:20250123T170000
DTSTAMP:20260420T225404
CREATED:20241117T151856Z
LAST-MODIFIED:20241117T151856Z
UID:10002776-1737651600-1737651600@www.grovechristianschool.com
SUMMARY:Girls Basketball at Grace Christian
DESCRIPTION:
URL:https://www.grovechristianschool.com/gcsevent/girls-basketball-at-grace-christian/
LOCATION:Grace Christian School\, 8067 Atlee Rd\, Mechanicsville\, Virginia\, 23111\, United States
CATEGORIES:Athletic,Sports
END:VEVENT
BEGIN:VEVENT
DTSTART;TZID=America/New_York:20250123T171500
DTEND;TZID=America/New_York:20250123T171500
DTSTAMP:20260420T225404
CREATED:20241117T151910Z
LAST-MODIFIED:20241117T151910Z
UID:10002777-1737652500-1737652500@www.grovechristianschool.com
SUMMARY:JV Boys Basketball vs. Stonebridge
DESCRIPTION:
URL:https://www.grovechristianschool.com/gcsevent/jv-boys-basketball-vs-stonebridge/
LOCATION:VA
CATEGORIES:Athletic,Sports
END:VEVENT
BEGIN:VEVENT
DTSTART;TZID=America/New_York:20250123T183000
DTEND;TZID=America/New_York:20250123T183000
DTSTAMP:20260420T225404
CREATED:20241117T151910Z
LAST-MODIFIED:20241117T151910Z
UID:10002778-1737657000-1737657000@www.grovechristianschool.com
SUMMARY:Varsity Boys Basketball at Stonebridge
DESCRIPTION:
URL:https://www.grovechristianschool.com/gcsevent/varsity-boys-basketball-at-stonebridge/
LOCATION:VA
CATEGORIES:Athletic,Sports
END:VEVENT
END:VCALENDAR