BEGIN:VCALENDAR
VERSION:2.0
PRODID:-//Grove Christian School - Christian Leadership Academy - Richmond Virginia - Private School - ECPv6.15.5//NONSGML v1.0//EN
CALSCALE:GREGORIAN
METHOD:PUBLISH
X-WR-CALNAME:Grove Christian School - Christian Leadership Academy - Richmond Virginia - Private School
X-ORIGINAL-URL:https://www.grovechristianschool.com
X-WR-CALDESC:Events for Grove Christian School - Christian Leadership Academy - Richmond Virginia - Private School
REFRESH-INTERVAL;VALUE=DURATION:PT1H
X-Robots-Tag:noindex
X-PUBLISHED-TTL:PT1H
BEGIN:VTIMEZONE
TZID:America/New_York
BEGIN:DAYLIGHT
TZOFFSETFROM:-0500
TZOFFSETTO:-0400
TZNAME:EDT
DTSTART:20200308T070000
END:DAYLIGHT
BEGIN:STANDARD
TZOFFSETFROM:-0400
TZOFFSETTO:-0500
TZNAME:EST
DTSTART:20201101T060000
END:STANDARD
END:VTIMEZONE
BEGIN:VEVENT
DTSTART;TZID=America/New_York:20200218T160000
DTEND;TZID=America/New_York:20200218T170000
DTSTAMP:20260424T025719
CREATED:20191028T174245Z
LAST-MODIFIED:20200218T134856Z
UID:10001534-1582041600-1582045200@www.grovechristianschool.com
SUMMARY:MS Boys Basketball vs Grace (VMAC Semifinals)
DESCRIPTION:
URL:https://www.grovechristianschool.com/gcsevent/ms-boys-basketball-at-vmac-semifinals/
LOCATION:Guardian Christian Academy\, 6851 Courthouse Rd\, Chesterfield\, VA\, 23832\, United States
CATEGORIES:Athletic
END:VEVENT
BEGIN:VEVENT
DTSTART;TZID=America/New_York:20200218T160000
DTEND;TZID=America/New_York:20200218T170000
DTSTAMP:20260424T025719
CREATED:20191028T174148Z
LAST-MODIFIED:20200211T143500Z
UID:10001532-1582041600-1582045200@www.grovechristianschool.com
SUMMARY:Varsity Girls Basketball at Spirit Warhawks (SCRIMMAGE)
DESCRIPTION:
URL:https://www.grovechristianschool.com/gcsevent/varsity-girls-basketball-at-vmac-semifinals/
LOCATION:Goodwill Baptist Church\, 8701 Hungary Spring Rd\, Henrico\, VA\, 23228\, United States
CATEGORIES:Athletic
END:VEVENT
BEGIN:VEVENT
DTSTART;TZID=America/New_York:20200218T193000
DTEND;TZID=America/New_York:20200218T203000
DTSTAMP:20260424T025719
CREATED:20191028T174049Z
LAST-MODIFIED:20200211T143559Z
UID:10001530-1582054200-1582057800@www.grovechristianschool.com
SUMMARY:Varsity Boys Basketball vs Grace Christian (VMAC Semifinals)
DESCRIPTION:
URL:https://www.grovechristianschool.com/gcsevent/varsity-boys-basketball-at-vmac-semifinals/
LOCATION:Guardian Christian Academy\, 6851 Courthouse Rd\, Chesterfield\, VA\, 23832\, United States
CATEGORIES:Athletic
END:VEVENT
BEGIN:VEVENT
DTSTART;TZID=America/New_York:20200222T133000
DTEND;TZID=America/New_York:20200222T143000
DTSTAMP:20260424T025719
CREATED:20191028T174448Z
LAST-MODIFIED:20200221T181100Z
UID:10001536-1582378200-1582381800@www.grovechristianschool.com
SUMMARY:Varsity Girls Basketball vs Williamsburg Christian (VMAC Championship)
DESCRIPTION:
URL:https://www.grovechristianschool.com/gcsevent/varsity-girls-basketball-at-vmac-semifinals-2/
LOCATION:Williamsburg Christian Academy\, 101 School House Ln\, Williamsburg\, VA\, 23188\, United States
CATEGORIES:Athletic
END:VEVENT
BEGIN:VEVENT
DTSTART;TZID=America/New_York:20200228T160000
DTEND;TZID=America/New_York:20200228T210000
DTSTAMP:20260424T025719
CREATED:20200109T132557Z
LAST-MODIFIED:20200109T132558Z
UID:10001347-1582905600-1582923600@www.grovechristianschool.com
SUMMARY:MS Boys Basketball at Guardian Tournament
DESCRIPTION:
URL:https://www.grovechristianschool.com/gcsevent/ms-boys-basketball-at-guardian-tournament/
LOCATION:Guardian Christian Academy\, 6851 Courthouse Rd\, Chesterfield\, VA\, 23832\, United States
CATEGORIES:Athletic
END:VEVENT
BEGIN:VEVENT
DTSTART;TZID=America/New_York:20200317T153000
DTEND;TZID=America/New_York:20200317T163000
DTSTAMP:20260424T025719
CREATED:20200212T142334Z
LAST-MODIFIED:20200402T143913Z
UID:10001355-1584459000-1584462600@www.grovechristianschool.com
SUMMARY:Girls Soccer at Banner Christian (SCRIMMAGE)--Canceled
DESCRIPTION:
URL:https://www.grovechristianschool.com/gcsevent/girls-soccer-at-banner-christian-scrimmage/
LOCATION:Stratton Park\, 5400 Ridgedale Pkwy\, Richmond\, VA\, 23234\, United States
CATEGORIES:Athletic
END:VEVENT
BEGIN:VEVENT
DTSTART;TZID=America/New_York:20200323T163000
DTEND;TZID=America/New_York:20200323T173000
DTSTAMP:20260424T025719
CREATED:20200306T180637Z
LAST-MODIFIED:20200402T143858Z
UID:10001575-1584981000-1584984600@www.grovechristianschool.com
SUMMARY:Baseball at Richmond Christian--Canceled
DESCRIPTION:
URL:https://www.grovechristianschool.com/gcsevent/baseball-at-richmond-christian/
LOCATION:Richmond Christian School\, 8215\, 6511 Belmont Rd\, Chesterfield\, VA\, 23832\, United States
CATEGORIES:Athletic
END:VEVENT
BEGIN:VEVENT
DTSTART;TZID=America/New_York:20200326T163000
DTEND;TZID=America/New_York:20200326T173000
DTSTAMP:20260424T025719
CREATED:20200212T143103Z
LAST-MODIFIED:20200402T143732Z
UID:10001552-1585240200-1585243800@www.grovechristianschool.com
SUMMARY:Baseball at New Community--Canceled
DESCRIPTION:
URL:https://www.grovechristianschool.com/gcsevent/baseball-at-new-community/
LOCATION:Klehr Field\, Richmond\, VA\, 23227\, United States
CATEGORIES:Athletic
END:VEVENT
BEGIN:VEVENT
DTSTART;TZID=America/New_York:20200326T163000
DTEND;TZID=America/New_York:20200326T173000
DTSTAMP:20260424T025719
CREATED:20200212T142926Z
LAST-MODIFIED:20200402T143739Z
UID:10001550-1585240200-1585243800@www.grovechristianschool.com
SUMMARY:Girls Soccer at New Community--Canceled
DESCRIPTION:
URL:https://www.grovechristianschool.com/gcsevent/girls-soccer-at-new-community/
LOCATION:The New Community School\, 4211 Hermitage Rd\, Richmond\, VA\, 23227\, United States
CATEGORIES:Athletic
END:VEVENT
BEGIN:VEVENT
DTSTART;TZID=America/New_York:20200327T153000
DTEND;TZID=America/New_York:20200327T163000
DTSTAMP:20260424T025719
CREATED:20200212T151451Z
LAST-MODIFIED:20200402T143722Z
UID:10001572-1585323000-1585326600@www.grovechristianschool.com
SUMMARY:Girls Soccer at Guardian Christian--Canceled
DESCRIPTION:
URL:https://www.grovechristianschool.com/gcsevent/girls-soccer-at-guardian-christian/
LOCATION:R Garland Dodd Park at Point of Rocks\, 201 Enon Church Rd\, Chester\, VA\, 23836\, United States
CATEGORIES:Athletic
END:VEVENT
BEGIN:VEVENT
DTSTART;TZID=America/New_York:20200330T153000
DTEND;TZID=America/New_York:20200330T163000
DTSTAMP:20260424T025719
CREATED:20200212T142831Z
LAST-MODIFIED:20200402T143715Z
UID:10001357-1585582200-1585585800@www.grovechristianschool.com
SUMMARY:Girls Soccer at Banner Christian--Canceled
DESCRIPTION:
URL:https://www.grovechristianschool.com/gcsevent/girls-soccer-at-banner-christian/
LOCATION:Stratton Park\, 5400 Ridgedale Pkwy\, Richmond\, VA\, 23234\, United States
CATEGORIES:Athletic
END:VEVENT
BEGIN:VEVENT
DTSTART;TZID=America/New_York:20200331T160000
DTEND;TZID=America/New_York:20200331T170000
DTSTAMP:20260424T025719
CREATED:20200212T143218Z
LAST-MODIFIED:20200402T143708Z
UID:10001554-1585670400-1585674000@www.grovechristianschool.com
SUMMARY:Girls Soccer vs  Grace Christian--Canceled
DESCRIPTION:
URL:https://www.grovechristianschool.com/gcsevent/girls-soccer-vs-grace-christian/
LOCATION:Glover Park\, 11217 Greenwood Rd\, Glen Allen\, VA\, 23059\, United States
CATEGORIES:Athletic
END:VEVENT
BEGIN:VEVENT
DTSTART;TZID=America/New_York:20200331T163000
DTEND;TZID=America/New_York:20200331T173000
DTSTAMP:20260424T025719
CREATED:20200212T143317Z
LAST-MODIFIED:20200402T143701Z
UID:10001557-1585672200-1585675800@www.grovechristianschool.com
SUMMARY:Baseball vs  Grace Christian--Canceled
DESCRIPTION:
URL:https://www.grovechristianschool.com/gcsevent/baseball-vs-grace-christian/
LOCATION:Johnson Elementary\, 5600 Bethlehem Rd\, Richmond\, VA\, 23230\, United States
CATEGORIES:Athletic
END:VEVENT
BEGIN:VEVENT
DTSTART;TZID=America/New_York:20200402T160000
DTEND;TZID=America/New_York:20200402T170000
DTSTAMP:20260424T025719
CREATED:20200310T154049Z
LAST-MODIFIED:20200402T143646Z
UID:10001578-1585843200-1585846800@www.grovechristianschool.com
SUMMARY:Baseball vs Benedictine MS--Canceled
DESCRIPTION:
URL:https://www.grovechristianschool.com/gcsevent/baseball-vs-benedictine-ms/
LOCATION:Johnson Elementary\, 5600 Bethlehem Rd\, Richmond\, VA\, 23230\, United States
CATEGORIES:Athletic
END:VEVENT
BEGIN:VEVENT
DTSTART;TZID=America/New_York:20200402T160000
DTEND;TZID=America/New_York:20200402T170000
DTSTAMP:20260424T025719
CREATED:20200305T210633Z
LAST-MODIFIED:20200402T143654Z
UID:10001574-1585843200-1585846800@www.grovechristianschool.com
SUMMARY:MS Girls Soccer at West End Christian--Canceled
DESCRIPTION:
URL:https://www.grovechristianschool.com/gcsevent/ms-girls-soccer-at-west-end-christian/
LOCATION:Unity Baptist Church\, 4951 Mt Sinai Rd\, Prince George\, VA\, 23875\, United States
CATEGORIES:Athletic
END:VEVENT
BEGIN:VEVENT
DTSTART;TZID=America/New_York:20200414T153000
DTEND;TZID=America/New_York:20200414T163000
DTSTAMP:20260424T025719
CREATED:20200212T151011Z
LAST-MODIFIED:20200402T143638Z
UID:10001569-1586878200-1586881800@www.grovechristianschool.com
SUMMARY:Girls Soccer at  Grace Christian--Canceled
DESCRIPTION:
URL:https://www.grovechristianschool.com/gcsevent/girls-soccer-at-grace-christian/
LOCATION:Glover Park\, 11217 Greenwood Rd\, Glen Allen\, VA\, 23059\, United States
CATEGORIES:Athletic
END:VEVENT
BEGIN:VEVENT
DTSTART;TZID=America/New_York:20200414T163000
DTEND;TZID=America/New_York:20200414T173000
DTSTAMP:20260424T025719
CREATED:20200212T150935Z
LAST-MODIFIED:20200402T143630Z
UID:10001570-1586881800-1586885400@www.grovechristianschool.com
SUMMARY:Baseball at  Grace Christian--Canceled
DESCRIPTION:
URL:https://www.grovechristianschool.com/gcsevent/baseball-at-grace-christian/
LOCATION:Johnson Elementary\, 5600 Bethlehem Rd\, Richmond\, VA\, 23230\, United States
CATEGORIES:Athletic
END:VEVENT
BEGIN:VEVENT
DTSTART;TZID=America/New_York:20200416T160000
DTEND;TZID=America/New_York:20200416T170000
DTSTAMP:20260424T025719
CREATED:20200212T143854Z
LAST-MODIFIED:20200402T143624Z
UID:10001561-1587052800-1587056400@www.grovechristianschool.com
SUMMARY:Girls Soccer vs Guardian Christian--Canceled
DESCRIPTION:
URL:https://www.grovechristianschool.com/gcsevent/girls-soccer-vs-guardian-christian/
LOCATION:Glover Park\, 11217 Greenwood Rd\, Glen Allen\, VA\, 23059\, United States
CATEGORIES:Athletic
END:VEVENT
BEGIN:VEVENT
DTSTART;TZID=America/New_York:20200416T163000
DTEND;TZID=America/New_York:20200416T180000
DTSTAMP:20260424T025719
CREATED:20200310T154106Z
LAST-MODIFIED:20200402T143615Z
UID:10001577-1587054600-1587060000@www.grovechristianschool.com
SUMMARY:Baseball at Benedictine MS--Canceled
DESCRIPTION:
URL:https://www.grovechristianschool.com/gcsevent/baseball-at-benedictine-ms-2/
LOCATION:Benedictine College Prep\, 12829 River Rd\, Richmond\, VA\, 23238\, United States
CATEGORIES:Athletic
END:VEVENT
BEGIN:VEVENT
DTSTART;TZID=America/New_York:20200420T163000
DTEND;TZID=America/New_York:20200420T173000
DTSTAMP:20260424T025720
CREATED:20200212T150622Z
LAST-MODIFIED:20200402T143552Z
UID:10001563-1587400200-1587403800@www.grovechristianschool.com
SUMMARY:Girls Soccer at Millwood--Canceled
DESCRIPTION:
URL:https://www.grovechristianschool.com/gcsevent/girls-soccer-vs-millwood/
LOCATION:Millwood Academy\, 15100 Millwood School Ln\, Midlothian\, VA\, 23112\, United States
CATEGORIES:Athletic
END:VEVENT
BEGIN:VEVENT
DTSTART;TZID=America/New_York:20200421T163000
DTEND;TZID=America/New_York:20200421T173000
DTSTAMP:20260424T025720
CREATED:20200212T150807Z
LAST-MODIFIED:20200402T143531Z
UID:10001565-1587486600-1587490200@www.grovechristianschool.com
SUMMARY:Girls Soccer at New Community--Canceled
DESCRIPTION:
URL:https://www.grovechristianschool.com/gcsevent/girls-soccer-at-new-community-2/
LOCATION:The New Community School\, 4211 Hermitage Rd\, Richmond\, VA\, 23227\, United States
CATEGORIES:Athletic
END:VEVENT
BEGIN:VEVENT
DTSTART;TZID=America/New_York:20200421T163000
DTEND;TZID=America/New_York:20200421T173000
DTSTAMP:20260424T025720
CREATED:20200212T150734Z
LAST-MODIFIED:20200402T143539Z
UID:10001567-1587486600-1587490200@www.grovechristianschool.com
SUMMARY:Baseball at New Community--Canceled
DESCRIPTION:
URL:https://www.grovechristianschool.com/gcsevent/baseball-at-new-community-2/
LOCATION:Klehr Field\, Richmond\, VA\, 23227\, United States
CATEGORIES:Athletic
END:VEVENT
BEGIN:VEVENT
DTSTART;TZID=America/New_York:20200424T163000
DTEND;TZID=America/New_York:20200424T180000
DTSTAMP:20260424T025720
CREATED:20200217T180757Z
LAST-MODIFIED:20200402T143523Z
UID:10001573-1587745800-1587751200@www.grovechristianschool.com
SUMMARY:Baseball at Benedictine MS--Canceled
DESCRIPTION:
URL:https://www.grovechristianschool.com/gcsevent/baseball-at-benedictine-ms/
LOCATION:Tuckahoe Little League\, 2400 Little League Dr\, Henrico\, VA\, 23233\, United States
CATEGORIES:Athletic
END:VEVENT
BEGIN:VEVENT
DTSTART;TZID=America/New_York:20200427T163000
DTEND;TZID=America/New_York:20200427T173000
DTSTAMP:20260424T025720
CREATED:20200212T151245Z
LAST-MODIFIED:20200402T143516Z
UID:10001571-1588005000-1588008600@www.grovechristianschool.com
SUMMARY:Girls Soccer at Millwood--Canceled
DESCRIPTION:
URL:https://www.grovechristianschool.com/gcsevent/girls-soccer-at-millwood/
LOCATION:Millwood Academy\, 15100 Millwood School Ln\, Midlothian\, VA\, 23112\, United States
CATEGORIES:Athletic
END:VEVENT
BEGIN:VEVENT
DTSTART;TZID=America/New_York:20200428T153000
DTEND;TZID=America/New_York:20200428T163000
DTSTAMP:20260424T025720
CREATED:20200212T143808Z
LAST-MODIFIED:20200402T143509Z
UID:10001559-1588087800-1588091400@www.grovechristianschool.com
SUMMARY:Girls Soccer at James River Homeschool--Canceled
DESCRIPTION:
URL:https://www.grovechristianschool.com/gcsevent/girls-soccer-at-james-river-homeschool/
LOCATION:Stratton Park\, 5400 Ridgedale Pkwy\, Richmond\, VA\, 23234\, United States
CATEGORIES:Athletic
END:VEVENT
BEGIN:VEVENT
DTSTART;TZID=America/New_York:20200501T160000
DTEND;TZID=America/New_York:20200501T170000
DTSTAMP:20260424T025720
CREATED:20200309T185518Z
LAST-MODIFIED:20200402T143445Z
UID:10001576-1588348800-1588352400@www.grovechristianschool.com
SUMMARY:MS Girls Soccer vs West End Christian--Canceled
DESCRIPTION:
URL:https://www.grovechristianschool.com/gcsevent/ms-girls-soccer-vs-west-end-christian/
LOCATION:Glover Park\, 11217 Greenwood Rd\, Glen Allen\, VA\, 23059\, United States
CATEGORIES:Athletic
END:VEVENT
BEGIN:VEVENT
DTSTART;TZID=America/New_York:20200504T000000
DTEND;TZID=America/New_York:20200508T235900
DTSTAMP:20260424T025720
CREATED:20200122T142703Z
LAST-MODIFIED:20200402T143438Z
UID:10001351-1588550400-1588982340@www.grovechristianschool.com
SUMMARY:Baseball at VMAC Championship--Canceled
DESCRIPTION:
URL:https://www.grovechristianschool.com/gcsevent/baseball-at-vmac-championship/
LOCATION:Williamsburg Christian Academy\, 101 School House Ln\, Williamsburg\, VA\, 23188\, United States
CATEGORIES:Athletic
END:VEVENT
BEGIN:VEVENT
DTSTART;TZID=America/New_York:20200504T000000
DTEND;TZID=America/New_York:20200508T235959
DTSTAMP:20260424T025720
CREATED:20200122T142552Z
LAST-MODIFIED:20200402T143430Z
UID:10001349-1588550400-1588982399@www.grovechristianschool.com
SUMMARY:Girls Soccer at VMAC Championship--Canceled
DESCRIPTION:
URL:https://www.grovechristianschool.com/gcsevent/girls-soccer-at-vmac-championship/
LOCATION:Williamsburg Christian Academy\, 101 School House Ln\, Williamsburg\, VA\, 23188\, United States
CATEGORIES:Athletic
END:VEVENT
BEGIN:VEVENT
DTSTART;TZID=America/New_York:20200810T000000
DTEND;TZID=America/New_York:20200810T235900
DTSTAMP:20260424T025720
CREATED:20200715T185732Z
LAST-MODIFIED:20200715T185733Z
UID:10001586-1597017600-1597103940@www.grovechristianschool.com
SUMMARY:Fall Sports Practices Begin
DESCRIPTION:
URL:https://www.grovechristianschool.com/gcsevent/fall-sports-practices-begin-3/
LOCATION:Grove Christian School\, 8701 Ridge Road\, Richmond\, VA\, 23229\, United States
CATEGORIES:Academic,Athletic,Main
END:VEVENT
BEGIN:VEVENT
DTSTART;TZID=America/New_York:20200910T163000
DTEND;TZID=America/New_York:20200910T173000
DTSTAMP:20260424T025720
CREATED:20200824T100000Z
LAST-MODIFIED:20200823T190929Z
UID:10001630-1599755400-1599759000@www.grovechristianschool.com
SUMMARY:Boys Soccer at Salem Christian
DESCRIPTION:
URL:https://www.grovechristianschool.com/gcsevent/boys-soccer-at-salem-christian/
LOCATION:Goochland County Parks and Recreation–Dogtown Rd\, 2748 Dogtown Rd\, Goochland\, VA\, 23063\, United States
CATEGORIES:Athletic
END:VEVENT
END:VCALENDAR