BEGIN:VCALENDAR
VERSION:2.0
PRODID:-//Grove Christian School - Christian Leadership Academy - Richmond Virginia - Private School - ECPv6.15.5//NONSGML v1.0//EN
CALSCALE:GREGORIAN
METHOD:PUBLISH
X-WR-CALNAME:Grove Christian School - Christian Leadership Academy - Richmond Virginia - Private School
X-ORIGINAL-URL:https://www.grovechristianschool.com
X-WR-CALDESC:Events for Grove Christian School - Christian Leadership Academy - Richmond Virginia - Private School
REFRESH-INTERVAL;VALUE=DURATION:PT1H
X-Robots-Tag:noindex
X-PUBLISHED-TTL:PT1H
BEGIN:VTIMEZONE
TZID:America/New_York
BEGIN:DAYLIGHT
TZOFFSETFROM:-0500
TZOFFSETTO:-0400
TZNAME:EDT
DTSTART:20190310T070000
END:DAYLIGHT
BEGIN:STANDARD
TZOFFSETFROM:-0400
TZOFFSETTO:-0500
TZNAME:EST
DTSTART:20191103T060000
END:STANDARD
BEGIN:DAYLIGHT
TZOFFSETFROM:-0500
TZOFFSETTO:-0400
TZNAME:EDT
DTSTART:20200308T070000
END:DAYLIGHT
BEGIN:STANDARD
TZOFFSETFROM:-0400
TZOFFSETTO:-0500
TZNAME:EST
DTSTART:20201101T060000
END:STANDARD
END:VTIMEZONE
BEGIN:VEVENT
DTSTART;TZID=America/New_York:20200102T000000
DTEND;TZID=America/New_York:20200103T235900
DTSTAMP:20260425T191855
CREATED:20190910T202012Z
LAST-MODIFIED:20191028T182108Z
UID:10001438-1577923200-1578095940@www.grovechristianschool.com
SUMMARY:Christmas Break--Teacher Inservice
DESCRIPTION:
URL:https://www.grovechristianschool.com/gcsevent/christmas-break-teacher-inservice/
LOCATION:Grove Christian School\, 8701 Ridge Road\, Richmond\, VA\, 23229\, United States
CATEGORIES:Academic,Main
END:VEVENT
BEGIN:VEVENT
DTSTART;TZID=America/New_York:20191223T000000
DTEND;TZID=America/New_York:20200101T235900
DTSTAMP:20260425T191855
CREATED:20190910T201940Z
LAST-MODIFIED:20191028T182128Z
UID:10001432-1577059200-1577923140@www.grovechristianschool.com
SUMMARY:Christmas Break
DESCRIPTION:
URL:https://www.grovechristianschool.com/gcsevent/christmas-break-2/
LOCATION:Grove Christian School\, 8701 Ridge Road\, Richmond\, VA\, 23229\, United States
CATEGORIES:Academic,Main
END:VEVENT
BEGIN:VEVENT
DTSTART;TZID=America/New_York:20191220T080000
DTEND;TZID=America/New_York:20191220T120000
DTSTAMP:20260425T191855
CREATED:20190910T201900Z
LAST-MODIFIED:20191028T182146Z
UID:10001430-1576828800-1576843200@www.grovechristianschool.com
SUMMARY:Christmas Service\, Class Celebrations\, Noon Dismissal
DESCRIPTION:
URL:https://www.grovechristianschool.com/gcsevent/christmas-service-class-celebrations-noon-dismissal/
LOCATION:Grove Christian School\, 8701 Ridge Road\, Richmond\, VA\, 23229\, United States
CATEGORIES:Academic,Main
END:VEVENT
BEGIN:VEVENT
DTSTART;TZID=America/New_York:20191211T080000
DTEND;TZID=America/New_York:20191211T150000
DTSTAMP:20260425T191855
CREATED:20190910T201656Z
LAST-MODIFIED:20191104T175452Z
UID:10001427-1576051200-1576076400@www.grovechristianschool.com
SUMMARY:PTP Christmas Shop
DESCRIPTION:
URL:https://www.grovechristianschool.com/gcsevent/ptp-christmas-shop-3/2019-12-11/
LOCATION:Grove Christian School\, 8701 Ridge Road\, Richmond\, VA\, 23229\, United States
CATEGORIES:Academic,Main
END:VEVENT
BEGIN:VEVENT
DTSTART;TZID=America/New_York:20191210T080000
DTEND;TZID=America/New_York:20191210T150000
DTSTAMP:20260425T191855
CREATED:20190910T201656Z
LAST-MODIFIED:20191104T175452Z
UID:10001426-1575964800-1575990000@www.grovechristianschool.com
SUMMARY:PTP Christmas Shop
DESCRIPTION:
URL:https://www.grovechristianschool.com/gcsevent/ptp-christmas-shop-3/2019-12-10/
LOCATION:Grove Christian School\, 8701 Ridge Road\, Richmond\, VA\, 23229\, United States
CATEGORIES:Academic,Main
END:VEVENT
BEGIN:VEVENT
DTSTART;TZID=America/New_York:20191127T000000
DTEND;TZID=America/New_York:20191129T235900
DTSTAMP:20260425T191855
CREATED:20190910T201402Z
LAST-MODIFIED:20191028T182309Z
UID:10001424-1574812800-1575071940@www.grovechristianschool.com
SUMMARY:Thanksgiving Break
DESCRIPTION:
URL:https://www.grovechristianschool.com/gcsevent/thanksgiving-break/
LOCATION:Grove Christian School\, 8701 Ridge Road\, Richmond\, VA\, 23229\, United States
CATEGORIES:Academic,Main
END:VEVENT
BEGIN:VEVENT
DTSTART;TZID=America/New_York:20191125T000000
DTEND;TZID=America/New_York:20191126T235900
DTSTAMP:20260425T191855
CREATED:20190910T201232Z
LAST-MODIFIED:20191028T182332Z
UID:10001422-1574640000-1574812740@www.grovechristianschool.com
SUMMARY:Thanksgiving Break--Teacher Inservice
DESCRIPTION:
URL:https://www.grovechristianschool.com/gcsevent/thanksgiving-break-teacher-inservice/
LOCATION:Grove Christian School\, 8701 Ridge Road\, Richmond\, VA\, 23229\, United States
CATEGORIES:Academic,Main
END:VEVENT
BEGIN:VEVENT
DTSTART;TZID=America/New_York:20191115T080000
DTEND;TZID=America/New_York:20191115T120000
DTSTAMP:20260425T191855
CREATED:20190910T201030Z
LAST-MODIFIED:20191028T182441Z
UID:10001421-1573804800-1573819200@www.grovechristianschool.com
SUMMARY:Veterans/Grandparents Day
DESCRIPTION:
URL:https://www.grovechristianschool.com/gcsevent/veterans-grandparents-day/
LOCATION:Grove Christian School\, 8701 Ridge Road\, Richmond\, VA\, 23229\, United States
CATEGORIES:Academic,Main
END:VEVENT
BEGIN:VEVENT
DTSTART;TZID=America/New_York:20191105T000000
DTEND;TZID=America/New_York:20191105T235900
DTSTAMP:20260425T191855
CREATED:20190910T200949Z
LAST-MODIFIED:20191028T182501Z
UID:10001420-1572912000-1572998340@www.grovechristianschool.com
SUMMARY:Election Day--No School\, Teacher Inservice
DESCRIPTION:
URL:https://www.grovechristianschool.com/gcsevent/election-day-no-school/
LOCATION:Grove Christian School\, 8701 Ridge Road\, Richmond\, VA\, 23229\, United States
CATEGORIES:Academic,Main
END:VEVENT
BEGIN:VEVENT
DTSTART;TZID=America/New_York:20191031T173000
DTEND;TZID=America/New_York:20191031T200000
DTSTAMP:20260425T191855
CREATED:20190910T200743Z
LAST-MODIFIED:20191028T182618Z
UID:10001419-1572543000-1572552000@www.grovechristianschool.com
SUMMARY:PTP Family Fun Night/GABC Trunk or Treat
DESCRIPTION:
URL:https://www.grovechristianschool.com/gcsevent/ptp-family-fun-night-gabc-trunk-or-treat/
LOCATION:Grove Christian School\, 8701 Ridge Road\, Richmond\, VA\, 23229\, United States
CATEGORIES:Academic,Main
END:VEVENT
BEGIN:VEVENT
DTSTART;TZID=America/New_York:20191030T000000
DTEND;TZID=America/New_York:20191030T235900
DTSTAMP:20260425T191855
CREATED:20190910T200231Z
LAST-MODIFIED:20191028T142650Z
UID:10001272-1572393600-1572479940@www.grovechristianschool.com
SUMMARY:We Serve Day
DESCRIPTION:
URL:https://www.grovechristianschool.com/gcsevent/we-serve-day-2/
LOCATION:Grove Christian School\, 8701 Ridge Road\, Richmond\, VA\, 23229\, United States
CATEGORIES:Academic,Main
END:VEVENT
BEGIN:VEVENT
DTSTART;TZID=America/New_York:20191028T000000
DTEND;TZID=America/New_York:20191028T235900
DTSTAMP:20260425T191855
CREATED:20190910T200507Z
LAST-MODIFIED:20191028T142820Z
UID:10001277-1572220800-1572307140@www.grovechristianschool.com
SUMMARY:Second Quarter Begins
DESCRIPTION:
URL:https://www.grovechristianschool.com/gcsevent/second-quarter-begins/
LOCATION:Grove Christian School\, 8701 Ridge Road\, Richmond\, VA\, 23229\, United States
CATEGORIES:Academic,Main
END:VEVENT
BEGIN:VEVENT
DTSTART;TZID=America/New_York:20191025T000000
DTEND;TZID=America/New_York:20191025T235900
DTSTAMP:20260425T191855
CREATED:20190910T200438Z
LAST-MODIFIED:20191028T143340Z
UID:10001276-1571961600-1572047940@www.grovechristianschool.com
SUMMARY:First Quarter Ends
DESCRIPTION:
URL:https://www.grovechristianschool.com/gcsevent/first-quarter-ends/
LOCATION:Grove Christian School\, 8701 Ridge Road\, Richmond\, VA\, 23229\, United States
CATEGORIES:Academic,Main
END:VEVENT
BEGIN:VEVENT
DTSTART;TZID=America/New_York:20191013T200000
DTEND;TZID=America/New_York:20191014T195959
DTSTAMP:20260425T191855
CREATED:20190910T200322Z
LAST-MODIFIED:20190910T201507Z
UID:10001274-1570996800-1571083199@www.grovechristianschool.com
SUMMARY:Columbus Day--No School\, PTP Golf Tournament\, Teacher Inservice
DESCRIPTION:
URL:https://www.grovechristianschool.com/gcsevent/columbus-day-no-school-ptp-golf-tournament/
LOCATION:Grove Christian School\, 8701 Ridge Road\, Richmond\, VA\, 23229\, United States
CATEGORIES:Academic,Main
END:VEVENT
BEGIN:VEVENT
DTSTART;TZID=America/New_York:20190925T043000
DTEND;TZID=America/New_York:20190925T050000
DTSTAMP:20260425T191855
CREATED:20190910T200156Z
LAST-MODIFIED:20190910T200156Z
UID:10001270-1569385800-1569387600@www.grovechristianschool.com
SUMMARY:See You at the Pole
DESCRIPTION:
URL:https://www.grovechristianschool.com/gcsevent/see-you-at-the-pole-2/
LOCATION:Grove Christian School\, 8701 Ridge Road\, Richmond\, VA\, 23229\, United States
CATEGORIES:Academic,Main
END:VEVENT
BEGIN:VEVENT
DTSTART;TZID=America/New_York:20190919T200000
DTEND;TZID=America/New_York:20190920T195959
DTSTAMP:20260425T191855
CREATED:20190910T200109Z
LAST-MODIFIED:20190910T200110Z
UID:10001268-1568923200-1569009599@www.grovechristianschool.com
SUMMARY:Upper School Retreat
DESCRIPTION:
URL:https://www.grovechristianschool.com/gcsevent/upper-school-retreat/
LOCATION:Grove Christian School\, 8701 Ridge Road\, Richmond\, VA\, 23229\, United States
CATEGORIES:Academic,Main
END:VEVENT
BEGIN:VEVENT
DTSTART;TZID=America/New_York:20190915T200000
DTEND;TZID=America/New_York:20190920T195959
DTSTAMP:20260425T191855
CREATED:20190910T200042Z
LAST-MODIFIED:20190910T200043Z
UID:10001266-1568577600-1569009599@www.grovechristianschool.com
SUMMARY:Fall Spiritual Emphasis Week
DESCRIPTION:
URL:https://www.grovechristianschool.com/gcsevent/fall-spiritual-emphasis-week/
LOCATION:Grove Christian School\, 8701 Ridge Road\, Richmond\, VA\, 23229\, United States
CATEGORIES:Academic,Main
END:VEVENT
BEGIN:VEVENT
DTSTART;TZID=America/New_York:20190910T140000
DTEND;TZID=America/New_York:20190910T160000
DTSTAMP:20260425T191855
CREATED:20190910T200004Z
LAST-MODIFIED:20190910T200005Z
UID:10001264-1568124000-1568131200@www.grovechristianschool.com
SUMMARY:Back to School Night
DESCRIPTION:
URL:https://www.grovechristianschool.com/gcsevent/back-to-school-night-2/
LOCATION:Grove Christian School\, 8701 Ridge Road\, Richmond\, VA\, 23229\, United States
CATEGORIES:Academic,Main
END:VEVENT
BEGIN:VEVENT
DTSTART;TZID=America/New_York:20190901T200000
DTEND;TZID=America/New_York:20190902T195959
DTSTAMP:20260425T191855
CREATED:20190910T195924Z
LAST-MODIFIED:20190910T195925Z
UID:10001262-1567368000-1567454399@www.grovechristianschool.com
SUMMARY:Labor Day--No School
DESCRIPTION:
URL:https://www.grovechristianschool.com/gcsevent/labor-day-no-school/
LOCATION:Grove Christian School\, 8701 Ridge Road\, Richmond\, VA\, 23229\, United States
CATEGORIES:Academic,Main
END:VEVENT
BEGIN:VEVENT
DTSTART;TZID=America/New_York:20190820T200000
DTEND;TZID=America/New_York:20190821T195959
DTSTAMP:20260425T191855
CREATED:20190910T195846Z
LAST-MODIFIED:20190910T195847Z
UID:10001260-1566331200-1566417599@www.grovechristianschool.com
SUMMARY:First Day of School
DESCRIPTION:
URL:https://www.grovechristianschool.com/gcsevent/first-day-of-school/
LOCATION:Grove Christian School\, 8701 Ridge Road\, Richmond\, VA\, 23229\, United States
CATEGORIES:Academic,Main
END:VEVENT
BEGIN:VEVENT
DTSTART;TZID=America/New_York:20190819T140000
DTEND;TZID=America/New_York:20190819T160000
DTSTAMP:20260425T191855
CREATED:20190910T195804Z
LAST-MODIFIED:20190910T195805Z
UID:10001418-1566223200-1566230400@www.grovechristianschool.com
SUMMARY:Opening Ceremony
DESCRIPTION:
URL:https://www.grovechristianschool.com/gcsevent/opening-ceremony/
LOCATION:Grove Christian School\, 8701 Ridge Road\, Richmond\, VA\, 23229\, United States
CATEGORIES:Academic,Main
END:VEVENT
BEGIN:VEVENT
DTSTART;TZID=America/New_York:20190818T200000
DTEND;TZID=America/New_York:20190820T195959
DTSTAMP:20260425T191855
CREATED:20190910T195704Z
LAST-MODIFIED:20190910T195706Z
UID:10001417-1566158400-1566331199@www.grovechristianschool.com
SUMMARY:Teacher Inservice
DESCRIPTION:
URL:https://www.grovechristianschool.com/gcsevent/teacher-inservice-3-2/
LOCATION:Grove Christian School\, 8701 Ridge Road\, Richmond\, VA\, 23229\, United States
CATEGORIES:Academic,Main
END:VEVENT
BEGIN:VEVENT
DTSTART;TZID=America/New_York:20190813T200000
DTEND;TZID=America/New_York:20190816T195959
DTSTAMP:20260425T191855
CREATED:20190910T195556Z
LAST-MODIFIED:20190910T195605Z
UID:10001416-1565726400-1565985599@www.grovechristianschool.com
SUMMARY:Teacher Inservice
DESCRIPTION:
URL:https://www.grovechristianschool.com/gcsevent/teacher-inservice-3/
LOCATION:Grove Christian School\, 8701 Ridge Road\, Richmond\, VA\, 23229\, United States
CATEGORIES:Academic,Main
END:VEVENT
BEGIN:VEVENT
DTSTART;TZID=America/New_York:20190804T200000
DTEND;TZID=America/New_York:20190805T195900
DTSTAMP:20260425T191855
CREATED:20190910T195204Z
LAST-MODIFIED:20190910T195408Z
UID:10001415-1564948800-1565035140@www.grovechristianschool.com
SUMMARY:Fall Sports Practices Begin
DESCRIPTION:
URL:https://www.grovechristianschool.com/gcsevent/fall-sports-practices-begin-2/
LOCATION:Grove Christian School\, 8701 Ridge Road\, Richmond\, VA\, 23229\, United States
CATEGORIES:Academic,Athletic,Main
END:VEVENT
BEGIN:VEVENT
DTSTART;TZID=America/New_York:20190610T200000
DTEND;TZID=America/New_York:20190611T195959
DTSTAMP:20260425T191855
CREATED:20190606T000435Z
LAST-MODIFIED:20190910T201256Z
UID:10001213-1560196800-1560283199@www.grovechristianschool.com
SUMMARY:Teacher Work Day
DESCRIPTION:
URL:https://www.grovechristianschool.com/gcsevent/teacher-work-day-2/
LOCATION:Grove Christian School\, 8701 Ridge Road\, Richmond\, VA\, 23229\, United States
CATEGORIES:Academic,Main
END:VEVENT
BEGIN:VEVENT
DTSTART;TZID=America/New_York:20190606T200000
DTEND;TZID=America/New_York:20190607T195959
DTSTAMP:20260425T191855
CREATED:20190524T044601Z
LAST-MODIFIED:20190910T201302Z
UID:10001211-1559851200-1559937599@www.grovechristianschool.com
SUMMARY:Upper School Exams
DESCRIPTION:
URL:https://www.grovechristianschool.com/gcsevent/upper-school-exams-4/
LOCATION:Grove Christian School\, 8701 Ridge Road\, Richmond\, VA\, 23229\, United States
CATEGORIES:Academic,Main
END:VEVENT
BEGIN:VEVENT
DTSTART;TZID=America/New_York:20190605T200000
DTEND;TZID=America/New_York:20190606T195959
DTSTAMP:20260425T191855
CREATED:20190524T044506Z
LAST-MODIFIED:20190524T054033Z
UID:10001210-1559764800-1559851199@www.grovechristianschool.com
SUMMARY:Upper School Exams
DESCRIPTION:
URL:https://www.grovechristianschool.com/gcsevent/upper-school-exams-3/
LOCATION:Grove Christian School\, 8701 Ridge Road\, Richmond\, VA\, 23229\, United States
CATEGORIES:Academic,Main
END:VEVENT
BEGIN:VEVENT
DTSTART;TZID=America/New_York:20190604T200000
DTEND;TZID=America/New_York:20190605T195959
DTSTAMP:20260425T191855
CREATED:20190524T044417Z
LAST-MODIFIED:20190524T051113Z
UID:10001208-1559678400-1559764799@www.grovechristianschool.com
SUMMARY:Upper School Exams
DESCRIPTION:
URL:https://www.grovechristianschool.com/gcsevent/upper-school-exams-2/
LOCATION:Grove Christian School\, 8701 Ridge Road\, Richmond\, VA\, 23229\, United States
CATEGORIES:Academic,Main
END:VEVENT
END:VCALENDAR