BEGIN:VCALENDAR
VERSION:2.0
PRODID:-//Grove Christian School - Christian Leadership Academy - Richmond Virginia - Private School - ECPv6.15.5//NONSGML v1.0//EN
CALSCALE:GREGORIAN
METHOD:PUBLISH
X-WR-CALNAME:Grove Christian School - Christian Leadership Academy - Richmond Virginia - Private School
X-ORIGINAL-URL:https://www.grovechristianschool.com
X-WR-CALDESC:Events for Grove Christian School - Christian Leadership Academy - Richmond Virginia - Private School
REFRESH-INTERVAL;VALUE=DURATION:PT1H
X-Robots-Tag:noindex
X-PUBLISHED-TTL:PT1H
BEGIN:VTIMEZONE
TZID:America/New_York
BEGIN:DAYLIGHT
TZOFFSETFROM:-0500
TZOFFSETTO:-0400
TZNAME:EDT
DTSTART:20190310T070000
END:DAYLIGHT
BEGIN:STANDARD
TZOFFSETFROM:-0400
TZOFFSETTO:-0500
TZNAME:EST
DTSTART:20191103T060000
END:STANDARD
BEGIN:DAYLIGHT
TZOFFSETFROM:-0500
TZOFFSETTO:-0400
TZNAME:EDT
DTSTART:20200308T070000
END:DAYLIGHT
BEGIN:STANDARD
TZOFFSETFROM:-0400
TZOFFSETTO:-0500
TZNAME:EST
DTSTART:20201101T060000
END:STANDARD
END:VTIMEZONE
BEGIN:VEVENT
DTSTART;TZID=America/New_York:20200601T000000
DTEND;TZID=America/New_York:20200602T235900
DTSTAMP:20260423T100705
CREATED:20190910T204456Z
LAST-MODIFIED:20191028T180827Z
UID:10001288-1590969600-1591142340@www.grovechristianschool.com
SUMMARY:Teacher Inservice
DESCRIPTION:
URL:https://www.grovechristianschool.com/gcsevent/teacher-inservice-4/
LOCATION:Grove Christian School\, 8701 Ridge Road\, Richmond\, VA\, 23229\, United States
CATEGORIES:Academic,Main
END:VEVENT
BEGIN:VEVENT
DTSTART;TZID=America/New_York:20200529T080000
DTEND;TZID=America/New_York:20200529T120000
DTSTAMP:20260423T100705
CREATED:20190910T204156Z
LAST-MODIFIED:20200402T143107Z
UID:10001466-1590739200-1590753600@www.grovechristianschool.com
SUMMARY:Upper School Awards and Celebration--Postponed
DESCRIPTION:
URL:https://www.grovechristianschool.com/gcsevent/upper-school-awards-and-celebration-students-dismissed-at-noon/
LOCATION:Grove Christian School\, 8701 Ridge Road\, Richmond\, VA\, 23229\, United States
CATEGORIES:Academic,Main
END:VEVENT
BEGIN:VEVENT
DTSTART;TZID=America/New_York:20200528T190000
DTEND;TZID=America/New_York:20200528T210000
DTSTAMP:20260423T100705
CREATED:20190910T204236Z
LAST-MODIFIED:20200402T143126Z
UID:10001467-1590692400-1590699600@www.grovechristianschool.com
SUMMARY:Preschool Graduation--Postponed
DESCRIPTION:
URL:https://www.grovechristianschool.com/gcsevent/preschool-graduation/
LOCATION:Grove Christian School\, 8701 Ridge Road\, Richmond\, VA\, 23229\, United States
CATEGORIES:Academic,Main
END:VEVENT
BEGIN:VEVENT
DTSTART;TZID=America/New_York:20200528T080000
DTEND;TZID=America/New_York:20200528T120000
DTSTAMP:20260423T100705
CREATED:20190910T204101Z
LAST-MODIFIED:20200402T143330Z
UID:10001465-1590652800-1590667200@www.grovechristianschool.com
SUMMARY:Lower School Awards and Celebration--Postponed
DESCRIPTION:
URL:https://www.grovechristianschool.com/gcsevent/lower-school-awards-and-celebration/
LOCATION:Grove Christian School\, 8701 Ridge Road\, Richmond\, VA\, 23229\, United States
CATEGORIES:Academic,Main
END:VEVENT
BEGIN:VEVENT
DTSTART;TZID=America/New_York:20200527T000000
DTEND;TZID=America/New_York:20200527T235900
DTSTAMP:20260423T100705
CREATED:20190910T204015Z
LAST-MODIFIED:20191028T181026Z
UID:10001464-1590537600-1590623940@www.grovechristianschool.com
SUMMARY:Last Day for Preschool
DESCRIPTION:
URL:https://www.grovechristianschool.com/gcsevent/last-day-for-preschool/
LOCATION:Grove Christian School\, 8701 Ridge Road\, Richmond\, VA\, 23229\, United States
CATEGORIES:Academic,Main
END:VEVENT
BEGIN:VEVENT
DTSTART;TZID=America/New_York:20200526T000000
DTEND;TZID=America/New_York:20200528T235900
DTSTAMP:20260423T100705
CREATED:20190910T203944Z
LAST-MODIFIED:20191028T181045Z
UID:10001462-1590451200-1590710340@www.grovechristianschool.com
SUMMARY:Upper School Exams\, Half Day for Upper School\, Fourth Quarter Ends
DESCRIPTION:
URL:https://www.grovechristianschool.com/gcsevent/upper-school-exams-half-day-for-upper-school-fourth-quarter-ends/
LOCATION:Grove Christian School\, 8701 Ridge Road\, Richmond\, VA\, 23229\, United States
CATEGORIES:Academic,Main
END:VEVENT
BEGIN:VEVENT
DTSTART;TZID=America/New_York:20200525T000000
DTEND;TZID=America/New_York:20200525T235900
DTSTAMP:20260423T100705
CREATED:20191022T171841Z
LAST-MODIFIED:20191028T181107Z
UID:10001304-1590364800-1590451140@www.grovechristianschool.com
SUMMARY:Memorial Day
DESCRIPTION:
URL:https://www.grovechristianschool.com/gcsevent/memorial-day-2/
LOCATION:Grove Christian School\, 8701 Ridge Road\, Richmond\, VA\, 23229\, United States
CATEGORIES:Academic,Main
END:VEVENT
BEGIN:VEVENT
DTSTART;TZID=America/New_York:20200515T000000
DTEND;TZID=America/New_York:20200515T235900
DTSTAMP:20260423T100705
CREATED:20190910T203708Z
LAST-MODIFIED:20200402T143423Z
UID:10001458-1589500800-1589587140@www.grovechristianschool.com
SUMMARY:Field Day--Canceled
DESCRIPTION:
URL:https://www.grovechristianschool.com/gcsevent/field-day-students-dismissed-at-noon/
LOCATION:Grove Christian School\, 8701 Ridge Road\, Richmond\, VA\, 23229\, United States
CATEGORIES:Academic,Main
END:VEVENT
BEGIN:VEVENT
DTSTART;TZID=America/New_York:20200406T000000
DTEND;TZID=America/New_York:20200410T235900
DTSTAMP:20260423T100705
CREATED:20190910T203517Z
LAST-MODIFIED:20191028T181228Z
UID:10001456-1586131200-1586563140@www.grovechristianschool.com
SUMMARY:Spring Break
DESCRIPTION:
URL:https://www.grovechristianschool.com/gcsevent/spring-break/
LOCATION:Grove Christian School\, 8701 Ridge Road\, Richmond\, VA\, 23229\, United States
CATEGORIES:Academic,Main
END:VEVENT
BEGIN:VEVENT
DTSTART;TZID=America/New_York:20200330T080000
DTEND;TZID=America/New_York:20200330T170000
DTSTAMP:20260423T100705
CREATED:20190910T203359Z
LAST-MODIFIED:20200316T182431Z
UID:10001452-1585555200-1585587600@www.grovechristianschool.com
SUMMARY:Fourth Quarter Begins
DESCRIPTION:
URL:https://www.grovechristianschool.com/gcsevent/fourth-quarter-begins/
LOCATION:Grove Christian School\, 8701 Ridge Road\, Richmond\, VA\, 23229\, United States
CATEGORIES:Academic,Main
END:VEVENT
BEGIN:VEVENT
DTSTART;TZID=America/New_York:20200327T000000
DTEND;TZID=America/New_York:20200327T235900
DTSTAMP:20260423T100705
CREATED:20190910T203331Z
LAST-MODIFIED:20200316T182506Z
UID:10001450-1585267200-1585353540@www.grovechristianschool.com
SUMMARY:Third Quarter Ends
DESCRIPTION:
URL:https://www.grovechristianschool.com/gcsevent/third-quarter-ends/
LOCATION:Grove Christian School\, 8701 Ridge Road\, Richmond\, VA\, 23229\, United States
CATEGORIES:Academic,Main
END:VEVENT
BEGIN:VEVENT
DTSTART;TZID=America/New_York:20200320T180000
DTEND;TZID=America/New_York:20200320T210000
DTSTAMP:20260423T100705
CREATED:20190910T203126Z
LAST-MODIFIED:20200402T143905Z
UID:10001448-1584727200-1584738000@www.grovechristianschool.com
SUMMARY:PTP Auction--Postponed
DESCRIPTION:
URL:https://www.grovechristianschool.com/gcsevent/ptp-auction-2/
LOCATION:Grove Christian School\, 8701 Ridge Road\, Richmond\, VA\, 23229\, United States
CATEGORIES:Academic,Main
END:VEVENT
BEGIN:VEVENT
DTSTART;TZID=America/New_York:20200228T000000
DTEND;TZID=America/New_York:20200228T235900
DTSTAMP:20260423T100705
CREATED:20190910T203435Z
LAST-MODIFIED:20191106T215541Z
UID:10001454-1582848000-1582934340@www.grovechristianschool.com
SUMMARY:We Stand
DESCRIPTION:
URL:https://www.grovechristianschool.com/gcsevent/we-stand/
LOCATION:Grove Christian School\, 8701 Ridge Road\, Richmond\, VA\, 23229\, United States
CATEGORIES:Academic,Main
END:VEVENT
BEGIN:VEVENT
DTSTART;TZID=America/New_York:20200217T000000
DTEND;TZID=America/New_York:20200217T235900
DTSTAMP:20260423T100705
CREATED:20190910T203052Z
LAST-MODIFIED:20191028T181718Z
UID:10001446-1581897600-1581983940@www.grovechristianschool.com
SUMMARY:President's Day--No School\, Teacher Inservice\, Potential Weather Makeup Date
DESCRIPTION:
URL:https://www.grovechristianschool.com/gcsevent/presidents-day-no-school-teacher-inservice-potential-weather-makeup-date/
LOCATION:Grove Christian School\, 8701 Ridge Road\, Richmond\, VA\, 23229\, United States
CATEGORIES:Academic,Main
END:VEVENT
BEGIN:VEVENT
DTSTART;TZID=America/New_York:20200131T000000
DTEND;TZID=America/New_York:20200131T235900
DTSTAMP:20260423T100705
CREATED:20190910T202616Z
LAST-MODIFIED:20191028T181737Z
UID:10001444-1580428800-1580515140@www.grovechristianschool.com
SUMMARY:Homecoming
DESCRIPTION:
URL:https://www.grovechristianschool.com/gcsevent/homecoming/
LOCATION:Grove Christian School\, 8701 Ridge Road\, Richmond\, VA\, 23229\, United States
CATEGORIES:Academic,Athletic,Main
END:VEVENT
BEGIN:VEVENT
DTSTART;TZID=America/New_York:20200127T000000
DTEND;TZID=America/New_York:20200131T235900
DTSTAMP:20260423T100705
CREATED:20190910T202548Z
LAST-MODIFIED:20191028T181758Z
UID:10001443-1580083200-1580515140@www.grovechristianschool.com
SUMMARY:Spirit Week
DESCRIPTION:
URL:https://www.grovechristianschool.com/gcsevent/spirit-week/
LOCATION:Grove Christian School\, 8701 Ridge Road\, Richmond\, VA\, 23229\, United States
CATEGORIES:Academic,Main
END:VEVENT
BEGIN:VEVENT
DTSTART;TZID=America/New_York:20200121T000000
DTEND;TZID=America/New_York:20200121T235900
DTSTAMP:20260423T100705
CREATED:20190910T202225Z
LAST-MODIFIED:20191028T181934Z
UID:10001441-1579564800-1579651140@www.grovechristianschool.com
SUMMARY:Third Quarter Begins
DESCRIPTION:
URL:https://www.grovechristianschool.com/gcsevent/third-quarter-begins/
LOCATION:Grove Christian School\, 8701 Ridge Road\, Richmond\, VA\, 23229\, United States
CATEGORIES:Academic,Main
END:VEVENT
BEGIN:VEVENT
DTSTART;TZID=America/New_York:20200120T000000
DTEND;TZID=America/New_York:20200120T235900
DTSTAMP:20260423T100705
CREATED:20190910T202454Z
LAST-MODIFIED:20191028T182006Z
UID:10001442-1579478400-1579564740@www.grovechristianschool.com
SUMMARY:Martin Luther King\, Jr Day--No School
DESCRIPTION:
URL:https://www.grovechristianschool.com/gcsevent/martin-luther-king-jr-day-no-school/
LOCATION:Grove Christian School\, 8701 Ridge Road\, Richmond\, VA\, 23229\, United States
CATEGORIES:Academic,Main
END:VEVENT
BEGIN:VEVENT
DTSTART;TZID=America/New_York:20200117T000000
DTEND;TZID=America/New_York:20200117T235900
DTSTAMP:20260423T100705
CREATED:20190910T202153Z
LAST-MODIFIED:20191028T182029Z
UID:10001440-1579219200-1579305540@www.grovechristianschool.com
SUMMARY:Second Quarter Ends
DESCRIPTION:
URL:https://www.grovechristianschool.com/gcsevent/second-quarter-ends/
LOCATION:Grove Christian School\, 8701 Ridge Road\, Richmond\, VA\, 23229\, United States
CATEGORIES:Academic,Main
END:VEVENT
BEGIN:VEVENT
DTSTART;TZID=America/New_York:20200106T000000
DTEND;TZID=America/New_York:20200106T235900
DTSTAMP:20260423T100705
CREATED:20190910T202103Z
LAST-MODIFIED:20191028T182048Z
UID:10001439-1578268800-1578355140@www.grovechristianschool.com
SUMMARY:Students Return from Christmas Break
DESCRIPTION:
URL:https://www.grovechristianschool.com/gcsevent/students-return-from-christmas-break/
LOCATION:Grove Christian School\, 8701 Ridge Road\, Richmond\, VA\, 23229\, United States
CATEGORIES:Academic,Main
END:VEVENT
BEGIN:VEVENT
DTSTART;TZID=America/New_York:20200102T000000
DTEND;TZID=America/New_York:20200103T235900
DTSTAMP:20260423T100705
CREATED:20190910T202012Z
LAST-MODIFIED:20191028T182108Z
UID:10001438-1577923200-1578095940@www.grovechristianschool.com
SUMMARY:Christmas Break--Teacher Inservice
DESCRIPTION:
URL:https://www.grovechristianschool.com/gcsevent/christmas-break-teacher-inservice/
LOCATION:Grove Christian School\, 8701 Ridge Road\, Richmond\, VA\, 23229\, United States
CATEGORIES:Academic,Main
END:VEVENT
BEGIN:VEVENT
DTSTART;TZID=America/New_York:20191223T000000
DTEND;TZID=America/New_York:20200101T235900
DTSTAMP:20260423T100705
CREATED:20190910T201940Z
LAST-MODIFIED:20191028T182128Z
UID:10001432-1577059200-1577923140@www.grovechristianschool.com
SUMMARY:Christmas Break
DESCRIPTION:
URL:https://www.grovechristianschool.com/gcsevent/christmas-break-2/
LOCATION:Grove Christian School\, 8701 Ridge Road\, Richmond\, VA\, 23229\, United States
CATEGORIES:Academic,Main
END:VEVENT
BEGIN:VEVENT
DTSTART;TZID=America/New_York:20191220T080000
DTEND;TZID=America/New_York:20191220T120000
DTSTAMP:20260423T100705
CREATED:20190910T201900Z
LAST-MODIFIED:20191028T182146Z
UID:10001430-1576828800-1576843200@www.grovechristianschool.com
SUMMARY:Christmas Service\, Class Celebrations\, Noon Dismissal
DESCRIPTION:
URL:https://www.grovechristianschool.com/gcsevent/christmas-service-class-celebrations-noon-dismissal/
LOCATION:Grove Christian School\, 8701 Ridge Road\, Richmond\, VA\, 23229\, United States
CATEGORIES:Academic,Main
END:VEVENT
BEGIN:VEVENT
DTSTART;TZID=America/New_York:20191211T080000
DTEND;TZID=America/New_York:20191211T150000
DTSTAMP:20260423T100705
CREATED:20190910T201656Z
LAST-MODIFIED:20191104T175452Z
UID:10001427-1576051200-1576076400@www.grovechristianschool.com
SUMMARY:PTP Christmas Shop
DESCRIPTION:
URL:https://www.grovechristianschool.com/gcsevent/ptp-christmas-shop-3/2019-12-11/
LOCATION:Grove Christian School\, 8701 Ridge Road\, Richmond\, VA\, 23229\, United States
CATEGORIES:Academic,Main
END:VEVENT
BEGIN:VEVENT
DTSTART;TZID=America/New_York:20191210T080000
DTEND;TZID=America/New_York:20191210T150000
DTSTAMP:20260423T100705
CREATED:20190910T201656Z
LAST-MODIFIED:20191104T175452Z
UID:10001426-1575964800-1575990000@www.grovechristianschool.com
SUMMARY:PTP Christmas Shop
DESCRIPTION:
URL:https://www.grovechristianschool.com/gcsevent/ptp-christmas-shop-3/2019-12-10/
LOCATION:Grove Christian School\, 8701 Ridge Road\, Richmond\, VA\, 23229\, United States
CATEGORIES:Academic,Main
END:VEVENT
BEGIN:VEVENT
DTSTART;TZID=America/New_York:20191127T000000
DTEND;TZID=America/New_York:20191129T235900
DTSTAMP:20260423T100705
CREATED:20190910T201402Z
LAST-MODIFIED:20191028T182309Z
UID:10001424-1574812800-1575071940@www.grovechristianschool.com
SUMMARY:Thanksgiving Break
DESCRIPTION:
URL:https://www.grovechristianschool.com/gcsevent/thanksgiving-break/
LOCATION:Grove Christian School\, 8701 Ridge Road\, Richmond\, VA\, 23229\, United States
CATEGORIES:Academic,Main
END:VEVENT
BEGIN:VEVENT
DTSTART;TZID=America/New_York:20191125T000000
DTEND;TZID=America/New_York:20191126T235900
DTSTAMP:20260423T100706
CREATED:20190910T201232Z
LAST-MODIFIED:20191028T182332Z
UID:10001422-1574640000-1574812740@www.grovechristianschool.com
SUMMARY:Thanksgiving Break--Teacher Inservice
DESCRIPTION:
URL:https://www.grovechristianschool.com/gcsevent/thanksgiving-break-teacher-inservice/
LOCATION:Grove Christian School\, 8701 Ridge Road\, Richmond\, VA\, 23229\, United States
CATEGORIES:Academic,Main
END:VEVENT
BEGIN:VEVENT
DTSTART;TZID=America/New_York:20191115T080000
DTEND;TZID=America/New_York:20191115T120000
DTSTAMP:20260423T100706
CREATED:20190910T201030Z
LAST-MODIFIED:20191028T182441Z
UID:10001421-1573804800-1573819200@www.grovechristianschool.com
SUMMARY:Veterans/Grandparents Day
DESCRIPTION:
URL:https://www.grovechristianschool.com/gcsevent/veterans-grandparents-day/
LOCATION:Grove Christian School\, 8701 Ridge Road\, Richmond\, VA\, 23229\, United States
CATEGORIES:Academic,Main
END:VEVENT
BEGIN:VEVENT
DTSTART;TZID=America/New_York:20191105T000000
DTEND;TZID=America/New_York:20191105T235900
DTSTAMP:20260423T100706
CREATED:20190910T200949Z
LAST-MODIFIED:20191028T182501Z
UID:10001420-1572912000-1572998340@www.grovechristianschool.com
SUMMARY:Election Day--No School\, Teacher Inservice
DESCRIPTION:
URL:https://www.grovechristianschool.com/gcsevent/election-day-no-school/
LOCATION:Grove Christian School\, 8701 Ridge Road\, Richmond\, VA\, 23229\, United States
CATEGORIES:Academic,Main
END:VEVENT
BEGIN:VEVENT
DTSTART;TZID=America/New_York:20191031T173000
DTEND;TZID=America/New_York:20191031T200000
DTSTAMP:20260423T100706
CREATED:20190910T200743Z
LAST-MODIFIED:20191028T182618Z
UID:10001419-1572543000-1572552000@www.grovechristianschool.com
SUMMARY:PTP Family Fun Night/GABC Trunk or Treat
DESCRIPTION:
URL:https://www.grovechristianschool.com/gcsevent/ptp-family-fun-night-gabc-trunk-or-treat/
LOCATION:Grove Christian School\, 8701 Ridge Road\, Richmond\, VA\, 23229\, United States
CATEGORIES:Academic,Main
END:VEVENT
END:VCALENDAR