BEGIN:VCALENDAR
VERSION:2.0
PRODID:-//Grove Christian School - Christian Leadership Academy - Richmond Virginia - Private School - ECPv6.15.5//NONSGML v1.0//EN
CALSCALE:GREGORIAN
METHOD:PUBLISH
X-WR-CALNAME:Grove Christian School - Christian Leadership Academy - Richmond Virginia - Private School
X-ORIGINAL-URL:https://www.grovechristianschool.com
X-WR-CALDESC:Events for Grove Christian School - Christian Leadership Academy - Richmond Virginia - Private School
REFRESH-INTERVAL;VALUE=DURATION:PT1H
X-Robots-Tag:noindex
X-PUBLISHED-TTL:PT1H
BEGIN:VTIMEZONE
TZID:America/New_York
BEGIN:DAYLIGHT
TZOFFSETFROM:-0500
TZOFFSETTO:-0400
TZNAME:EDT
DTSTART:20230312T070000
END:DAYLIGHT
BEGIN:STANDARD
TZOFFSETFROM:-0400
TZOFFSETTO:-0500
TZNAME:EST
DTSTART:20231105T060000
END:STANDARD
BEGIN:DAYLIGHT
TZOFFSETFROM:-0500
TZOFFSETTO:-0400
TZNAME:EDT
DTSTART:20240310T070000
END:DAYLIGHT
BEGIN:STANDARD
TZOFFSETFROM:-0400
TZOFFSETTO:-0500
TZNAME:EST
DTSTART:20241103T060000
END:STANDARD
END:VTIMEZONE
BEGIN:VEVENT
DTSTART;TZID=America/New_York:20231221T000000
DTEND;TZID=America/New_York:20240102T235900
DTSTAMP:20260420T104507
CREATED:20230515T143018Z
LAST-MODIFIED:20230515T143019Z
UID:10001882-1703116800-1704239940@www.grovechristianschool.com
SUMMARY:Christmas Break
DESCRIPTION:
URL:https://www.grovechristianschool.com/gcsevent/christmas-break-6/
LOCATION:Grove Christian School\, 8701 Ridge Road\, Richmond\, VA\, 23229\, United States
CATEGORIES:Academic,Main
END:VEVENT
BEGIN:VEVENT
DTSTART;TZID=America/New_York:20240103T000000
DTEND;TZID=America/New_York:20240103T235900
DTSTAMP:20260420T104507
CREATED:20230515T143040Z
LAST-MODIFIED:20230515T143041Z
UID:10001881-1704240000-1704326340@www.grovechristianschool.com
SUMMARY:Christmas Break--Teacher Inservice
DESCRIPTION:
URL:https://www.grovechristianschool.com/gcsevent/christmas-break-teacher-inservice-5/
LOCATION:Grove Christian School\, 8701 Ridge Road\, Richmond\, VA\, 23229\, United States
CATEGORIES:Academic,Main
END:VEVENT
BEGIN:VEVENT
DTSTART;TZID=America/New_York:20240104T000000
DTEND;TZID=America/New_York:20240104T235900
DTSTAMP:20260420T104507
CREATED:20230515T143049Z
LAST-MODIFIED:20230515T143050Z
UID:10001880-1704326400-1704412740@www.grovechristianschool.com
SUMMARY:Students Return from Christmas Break
DESCRIPTION:
URL:https://www.grovechristianschool.com/gcsevent/students-return-from-christmas-break-5/
LOCATION:Grove Christian School\, 8701 Ridge Road\, Richmond\, VA\, 23229\, United States
CATEGORIES:Academic,Main
END:VEVENT
BEGIN:VEVENT
DTSTART;TZID=America/New_York:20240112T000000
DTEND;TZID=America/New_York:20240112T235900
DTSTAMP:20260420T104507
CREATED:20230516T130058Z
LAST-MODIFIED:20231102T174714Z
UID:10002249-1705017600-1705103940@www.grovechristianschool.com
SUMMARY:Homecoming
DESCRIPTION:
URL:https://www.grovechristianschool.com/gcsevent/homecoming-2/
LOCATION:Grove Christian School\, 8701 Ridge Road\, Richmond\, VA\, 23229\, United States
CATEGORIES:Academic,Athletic,Main
END:VEVENT
BEGIN:VEVENT
DTSTART;TZID=America/New_York:20240113T180000
DTEND;TZID=America/New_York:20240113T210000
DTSTAMP:20260420T104507
CREATED:20230516T130308Z
LAST-MODIFIED:20240104T125858Z
UID:10002250-1705168800-1705179600@www.grovechristianschool.com
SUMMARY:Snow Ball
DESCRIPTION:
URL:https://www.grovechristianschool.com/gcsevent/snow-ball/
LOCATION:Grove Christian School\, 8701 Ridge Road\, Richmond\, VA\, 23229\, United States
CATEGORIES:Academic,Main
END:VEVENT
BEGIN:VEVENT
DTSTART;TZID=America/New_York:20240115T000000
DTEND;TZID=America/New_York:20240115T235900
DTSTAMP:20260420T104507
CREATED:20230515T143235Z
LAST-MODIFIED:20230515T143236Z
UID:10002239-1705276800-1705363140@www.grovechristianschool.com
SUMMARY:Martin Luther King\, Jr Day--No School
DESCRIPTION:
URL:https://www.grovechristianschool.com/gcsevent/martin-luther-king-jr-day-no-school-5/
LOCATION:Grove Christian School\, 8701 Ridge Road\, Richmond\, VA\, 23229\, United States
CATEGORIES:Academic,Main
END:VEVENT
BEGIN:VEVENT
DTSTART;TZID=America/New_York:20240119T000000
DTEND;TZID=America/New_York:20240119T235900
DTSTAMP:20260420T104507
CREATED:20230515T143227Z
LAST-MODIFIED:20230515T143228Z
UID:10002240-1705622400-1705708740@www.grovechristianschool.com
SUMMARY:Second Quarter Ends
DESCRIPTION:
URL:https://www.grovechristianschool.com/gcsevent/second-quarter-ends-5/
LOCATION:Grove Christian School\, 8701 Ridge Road\, Richmond\, VA\, 23229\, United States
CATEGORIES:Academic,Main
END:VEVENT
BEGIN:VEVENT
DTSTART;TZID=America/New_York:20240122T000000
DTEND;TZID=America/New_York:20240122T235900
DTSTAMP:20260420T104507
CREATED:20230515T143245Z
LAST-MODIFIED:20230515T143246Z
UID:10002238-1705881600-1705967940@www.grovechristianschool.com
SUMMARY:Third Quarter Begins
DESCRIPTION:
URL:https://www.grovechristianschool.com/gcsevent/third-quarter-begins-5/
LOCATION:Grove Christian School\, 8701 Ridge Road\, Richmond\, VA\, 23229\, United States
CATEGORIES:Academic,Main
END:VEVENT
END:VCALENDAR