BEGIN:VCALENDAR
VERSION:2.0
PRODID:-//Grove Christian School - Christian Leadership Academy - Richmond Virginia - Private School - ECPv6.15.5//NONSGML v1.0//EN
CALSCALE:GREGORIAN
METHOD:PUBLISH
X-ORIGINAL-URL:https://www.grovechristianschool.com
X-WR-CALDESC:Events for Grove Christian School - Christian Leadership Academy - Richmond Virginia - Private School
REFRESH-INTERVAL;VALUE=DURATION:PT1H
X-Robots-Tag:noindex
X-PUBLISHED-TTL:PT1H
BEGIN:VTIMEZONE
TZID:America/New_York
BEGIN:DAYLIGHT
TZOFFSETFROM:-0500
TZOFFSETTO:-0400
TZNAME:EDT
DTSTART:20230312T070000
END:DAYLIGHT
BEGIN:STANDARD
TZOFFSETFROM:-0400
TZOFFSETTO:-0500
TZNAME:EST
DTSTART:20231105T060000
END:STANDARD
END:VTIMEZONE
BEGIN:VEVENT
DTSTART;TZID=America/New_York:20230428T000000
DTEND;TZID=America/New_York:20230428T235900
DTSTAMP:20260424T214221
CREATED:20220517T170848Z
LAST-MODIFIED:20220726T144229Z
UID:10002015-1682640000-1682726340@www.grovechristianschool.com
SUMMARY:Field Day (Half Day)
DESCRIPTION:
URL:https://www.grovechristianschool.com/gcsevent/field-day-4/
LOCATION:Grove Christian School\, 8701 Ridge Road\, Richmond\, VA\, 23229\, United States
CATEGORIES:Academic,Main
END:VEVENT
BEGIN:VEVENT
DTSTART;TZID=America/New_York:20230429T180000
DTEND;TZID=America/New_York:20230429T210000
DTSTAMP:20260424T214221
CREATED:20220517T170901Z
LAST-MODIFIED:20220726T144253Z
UID:10001670-1682791200-1682802000@www.grovechristianschool.com
SUMMARY:Prom
DESCRIPTION:
URL:https://www.grovechristianschool.com/gcsevent/prom-2/
LOCATION:Grove Christian School\, 8701 Ridge Road\, Richmond\, VA\, 23229\, United States
CATEGORIES:Academic,Main
END:VEVENT
END:VCALENDAR